BEGIN:VCALENDAR
VERSION:2.0
PRODID:-//jEvents 2.0 for Joomla//EN
CALSCALE:GREGORIAN
METHOD:PUBLISH
BEGIN:VEVENT
UID:13e6e4934dd950f08dd7b8967c1994ee
CATEGORIES:6. Bezirk
CREATED:20191112T132325
SUMMARY:Willkommen bei uns - Baby Shiatsu
LOCATION:Biolino Institut\, Sandwirtgasse 13/12\, 1060 Wien
DESCRIPTION:Verbindung schaffen\nGemeinsam entspannen\nEinander stärken\n\nMittels Shia
 tsu - Fingerdruckmassage - stärkst du das Immunsystem, regulierst die Verda
 uung und beruhigst dein Baby\n\nDas alles nach nur 1 Stunde in meinem Kurs 
 - du erhältst jede Menge Tipps und Tricks und nimmst auch noch Entspannungs
 übungen für dich selbst mit nach Hause.\n\nAnschließend gibt es noch ausrei
 chend Zeit für Tee, Kuchen und Plauderei oder Fragen.\nFür Babys ab frühest
 ens 6 Wochen bis zum Laufen, und deren Eltern/Großeltern/Tanten,Onkeln\n\n\
 nMelde dich gleich an, ich freu mich auf euch :)\n\nAnmeldung: auszeit@ausl
 iebezudir.at oder 067762081854\n\nWann? \n\nSamstag 16.11.2019\n10:00 - 11:
 30\n\nWo?\nBiolino Institut, Sandwirtgasse 13/12, 1060 Wien\n\nKurskosten: 
 20€\nPS: -10% mit dem Code "BABYMAMA" bei Anmeldung :)\n(die 2. Person beza
 hlt die Hälfte)\n \n \n
X-ALT-DESC;FMTTYPE=text/html:<p>Verbindung schaffen<br />Gemeinsam entspannen<br />Einander stärken<br /
 ><br />Mittels Shiatsu - Fingerdruckmassage - stärkst du das Immunsystem, r
 egulierst die Verdauung und beruhigst dein Baby<br /><br />Das alles nach n
 ur 1 Stunde in meinem Kurs - du erhältst jede Menge Tipps und Tricks und ni
 mmst auch noch Entspannungsübungen für dich selbst mit nach Hause.<br /><br
  />Anschließend gibt es noch ausreichend Zeit für Tee, Kuchen und Plauderei
  oder Fragen.<br />Für Babys ab frühestens 6 Wochen bis zum Laufen, und der
 en Eltern/Großeltern/Tanten,Onkeln<br /><br /><br /><strong>Melde dich glei
 ch an, ich freu mich auf euch :)</strong><br /><br /><strong>Anmeldung: aus
 zeit@ausliebezudir.at oder 067762081854</strong><br /><br />Wann? <br /><br
  />Samstag 16.11.2019<br />10:00 - 11:30<br /><br />Wo?</p><p>Biolino Insti
 tut, Sandwirtgasse 13/12, 1060 Wien<br /><br />Kurskosten: 20€</p><p>PS: <s
 trong>-10% mit dem Code "BABYMAMA"</strong> bei Anmeldung :)<br />(die 2. P
 erson bezahlt die Hälfte)</p><p> </p><p> </p>
CONTACT:Marion Fritz, auszeit@ausliebezudir.at, 067762081854
X-EXTRAINFO:[preis='2000'][anmeldung='true']
DTSTAMP:20260423T182504
DTSTART:20191116T090000
DTEND:20191116T103000
SEQUENCE:0
TRANSP:OPAQUE
END:VEVENT
END:VCALENDAR