BEGIN:VCALENDAR
VERSION:2.0
PRODID:-//jEvents 2.0 for Joomla//EN
CALSCALE:GREGORIAN
METHOD:PUBLISH
BEGIN:VEVENT
UID:8e54ec34536f4bf9d3548790a639b1dd
CATEGORIES:6. Bezirk
CREATED:20191112T133041
SUMMARY:"Ich will nicht auf den Bauch" - Baby-Shiatsu
LOCATION:Biolino Institut\, Sandwirtgasse 13/12\, 1060 Wien
DESCRIPTION:Die Bauchlage bei Babys ist ganz oft sehr unbeliebt.\nDazu kommt die Unsich
 erheit, was passiert in der Bauchlage - ist mein Baby gefährdet?\nSolange d
 ein Baby wach ist darf und soll es sogar in die Bauchlage gebracht werden. 
 Es stärkt den Rücken und bereitet es auf das Krabbeln vor.\nIch zeige euch 
 in diesem Schnupperkurs, wie wichtig die Bauchlage für die motorische Entwi
 cklung eures Babys ist und wie ihr euer Baby ganz einfach, langsam und behu
 tsam daran gewöhnen könnt. Wir behandeln den Rücken eurer Babys und stärken
  so die Muskulatur für die zukünftige Aufrichtung.\nDu erhältst jede Menge 
 Tipps und Tricks und nimmst auch noch Entspannungs- und Stärkungsübungen fü
 r deinen eigenen Rücken mit nach Hause. \n\nAnschließend gibt es noch ausre
 ichend Zeit für Tee, Kuchen und Plauderei oder Fragen.\nFür Babys ab frühes
 tens 6 Wochen bis zum Laufen, und deren Eltern/Großeltern/Tanten,Onkeln\n\n
 \nMelde dich gleich an, ich freu mich auf euch :)\n\nAnmeldung: auszeit@aus
 liebezudir.at oder 067762081854\n\nWann? \n\nSamstag 30.11.2019\n10:00 - 11
 :30\n\nWo?\nBiolino Institut, Sandwirtgasse 13/12, 1060 Wien\n\nKurskosten:
  20€\nPS: -10% mit dem Code "BABYMAMA" bei Anmeldung :)\n(die 2. Person bez
 ahlt die Hälfte)\n \n \n
X-ALT-DESC;FMTTYPE=text/html:<p>Die Bauchlage bei Babys ist ganz oft sehr unbeliebt.</p><p>Dazu kommt di
 e Unsicherheit, was passiert in der Bauchlage - ist mein Baby gefährdet?</p
 ><p>Solange dein Baby wach ist darf und soll es sogar in die Bauchlage gebr
 acht werden. Es stärkt den Rücken und bereitet es auf das Krabbeln vor.</p>
 <p>Ich zeige euch in diesem Schnupperkurs, wie wichtig die Bauchlage für di
 e motorische Entwicklung eures Babys ist und wie ihr euer Baby ganz einfach
 , langsam und behutsam daran gewöhnen könnt. Wir behandeln den Rücken eurer
  Babys und stärken so die Muskulatur für die zukünftige Aufrichtung.</p><p>
 Du erhältst jede Menge Tipps und Tricks und nimmst auch noch Entspannungs- 
 und Stärkungsübungen für deinen eigenen Rücken mit nach Hause. <br /><br />
 Anschließend gibt es noch ausreichend Zeit für Tee, Kuchen und Plauderei od
 er Fragen.<br />Für Babys ab frühestens 6 Wochen bis zum Laufen, und deren 
 Eltern/Großeltern/Tanten,Onkeln<br /><br /><br /><strong>Melde dich gleich 
 an, ich freu mich auf euch :)</strong><br /><br /><strong>Anmeldung: auszei
 t@ausliebezudir.at oder 067762081854</strong><br /><br />Wann? <br /><br />
 Samstag 30.11.2019<br />10:00 - 11:30<br /><br />Wo?</p><p>Biolino Institut
 , Sandwirtgasse 13/12, 1060 Wien<br /><br />Kurskosten: 20€</p><p>PS: <stro
 ng>-10% mit dem Code "BABYMAMA"</strong> bei Anmeldung :)<br />(die 2. Pers
 on bezahlt die Hälfte)</p><p> </p><p> </p>
CONTACT:Mag. Marion Fritz, auszeit@ausliebezudir.at, 067762081854, www.ausliebezudir.at
X-EXTRAINFO:[preis='2000'][anmeldung='true']
DTSTAMP:20260423T165702
DTSTART:20191130T090000
DTEND:20191130T103000
SEQUENCE:0
TRANSP:OPAQUE
END:VEVENT
END:VCALENDAR