BEGIN:VCALENDAR
VERSION:2.0
PRODID:-//jEvents 2.0 for Joomla//EN
CALSCALE:GREGORIAN
METHOD:PUBLISH
BEGIN:VEVENT
UID:d83691388f2bfcd40d65dc62ead24b00
CATEGORIES:22. Bezirk
CREATED:20191113T122601
SUMMARY:MAWIBA-Mama-Baby-Tanz
LOCATION:Tanzschule Schwebach\, Maculangasse 1B\, 1220 Wien
DESCRIPTION:Ihr wollten dem ??Vorweihnachtsstress ??für kurzer Zeit entkommen?\nDann se
 id Ihr hier genau richtig.??\nLasst Euch die ?GUTE-LAUNE-STUNDE? nicht entg
 ehen und ganz nebenbei tut Ihr auch eurem Beckenboden etwas gutes.\nIch bie
 te momentan einen Mix-Kurs an, wo Schwangere und Mamas mit Babys herzlich w
 illkommen sind.\nIn dieser besonderen Zeit hält Tanzen fit, macht Spaß und 
 stärkt die Mutter-Kind-Bindung bei den Schwangeren und auch wenn die Babys 
 schon da sind, denn diese können sich während die Mama tanzt sich in einem 
 Tragetuch oder Tragehilfe an sie kuscheln.\nWenn du mit einer Freundin komm
 t, gibt es hier auch den Freundinnen-Rabatt oben drauf.\nÜberzeugt Euch ein
 fach selbst. An folgenden Terminen geht es los:?\n          Mittwoch, 20.11
 ./27.11./04.12./11.12. von 16:30-17:30 Uhr\nORT: Tanzschule Schwebach, Macu
 langasse 1b, 1220 Wien\nAnmeldung unter: ?mama-baby-tanzen@gmx.at?\nIch wür
 de mich freuen, euch bald in einen von meinen Kursen begrüßen zu dürfen.\nE
 ure Bettina\n 
X-ALT-DESC;FMTTYPE=text/html:<div id="js_n" class="_5pbx userContent _3576" data-testid="post_message" d
 ata-ft="{&quot;tn&quot;:&quot;K&quot;}"><div id="id_5dcbe78e02edb1f80443498
 " class="text_exposed_root text_exposed"><p>Ihr wollten dem <span class="_5
 mfr"><span class="_6qdm">?</span></span><span class="_5mfr"><span class="_6
 qdm">?</span></span>Vorweihnachtsstress <span class="_5mfr"><span class="_6
 qdm">?</span></span><span class="_5mfr"><span class="_6qdm">?</span></span>
 für kurzer Zeit entkommen?</p><p>Dann seid Ihr hier genau richtig.<span cla
 ss="_5mfr"><span class="_6qdm">?</span></span><span class="_5mfr"><span cla
 ss="_6qdm">?</span></span><br />Lasst Euch die <span class="_5mfr"><span cl
 ass="_6qdm">?</span></span>GUTE-LAUNE-STUNDE<span class="_5mfr"><span class
 ="_6qdm">?</span></span> nicht entgehen und ganz nebenbei tut Ihr auch eure
 m Beckenboden etwas gutes.</p><div class="text_exposed_show"><p>Ich biete m
 omentan einen Mix-Kurs an, wo Schwangere und Mamas mit Babys herzlich willk
 ommen sind.<br />In dieser besonderen Zeit hält Tanzen fit, macht Spaß und 
 stärkt die Mutter-Kind-Bindung bei den Schwangeren und auch wenn die Babys 
 schon da sind, denn diese können sich während die Mama tanzt sich in einem 
 Tragetuch oder Tragehilfe an sie kuscheln.</p><p>Wenn du mit einer Freundin
  kommt, gibt es hier auch den Freundinnen-Rabatt oben drauf.</p><p>Überzeug
 t Euch einfach selbst. An folgenden Terminen geht es los:<span class="_5mfr
 "><span class="_6qdm">?</span></span><br />          <strong>Mittwoch, 20.1
 1./27.11./04.12./11.12. von 16:30-17:30 Uhr</strong></p><p><span style="tex
 t-decoration: underline;"><strong>ORT</strong></span>: Tanzschule Schwebach
 , Maculangasse 1b, 1220 Wien</p><p><span style="text-decoration: underline;
 ">Anmeldung unter:</span> <span class="_5mfr"><span class="_6qdm">?</span><
 /span><strong>mama-baby-tanzen@gmx.at</strong><span class="_5mfr"><span cla
 ss="_6qdm">?</span></span></p><p>Ich würde mich freuen, euch bald in einen 
 von meinen Kursen begrüßen zu dürfen.<br />Eure Bettina</p></div></div></di
 v><div class="_3x-2" data-ft="{&quot;tn&quot;:&quot;H&quot;}"> </div>
CONTACT:mama-baby-tanzen@gmx.at
DTSTAMP:20260423T165700
DTSTART:20191113T153000
DTEND:20191113T163000
SEQUENCE:0
TRANSP:OPAQUE
END:VEVENT
END:VCALENDAR