BEGIN:VCALENDAR
VERSION:2.0
PRODID:-//jEvents 2.0 for Joomla//EN
CALSCALE:GREGORIAN
METHOD:PUBLISH
BEGIN:VEVENT
UID:abd38c81637eef81db24df48993d6bdb
CATEGORIES:22. Bezirk
CREATED:20191113T123029
SUMMARY:MAWIBA-Mama-Baby-Tanz
LOCATION:Tanzschule Schwebach\, Maculangasse 1B\, 1220 Wien
DESCRIPTION:<p>Ihr wollten dem Vorweihnachtsstress für kurzer Zeit entkommen?</p><p>Dan
 n seid Ihr hier genau richtig.<br />Lasst Euch die GUTE-LAUNE-STUNDE nicht 
 entgehen und ganz nebenbei tut Ihr auch eurem Beckenboden etwas gutes.</p><
 div class="text_exposed_show"><p>Ich biete momentan einen Mix-Kurs an, wo S
 chwangere und Mamas mit Babys herzlich willkommen sind.<br />In dieser beso
 nderen Zeit hält Tanzen fit, macht Spaß und stärkt die Mutter-Kind-Bindung 
 bei den Schwangeren und auch wenn die Babys schon da sind, denn diese könne
 n sich während die Mama tanzt sich in einem Tragetuch oder Tragehilfe an si
 e kuscheln.</p><p>Wenn du mit einer Freundin kommt, gibt es hier auch den F
 reundinnen-Rabatt oben drauf.</p><p style="text-align: center;">Überzeugt E
 uch einfach selbst. An folgenden Terminen geht es los:<br /><strong>Mittwoc
 h, 20.11./27.11./04.12./11.12. von 16:30-17:30 Uhr</strong></p><p><span sty
 le="text-decoration: underline;">ORT</span>: Tanzschule Schwebach, Maculang
 asse 1b, 1220 Wien</p><p style="text-align: center;"><span style="text-deco
 ration: underline;">Bitte um Anmeldung unter:</span> <strong>mama-baby-tanz
 en@gmx.at</strong></p><p>Ich würde mich freuen, euch bald in einen von mein
 en Kursen begrüßen zu dürfen.<br />Eure Bettina</p></div>
CONTACT:mama-baby-tanzen@gmx.at
DTSTAMP:20260423T182831
DTSTART:20191127T153000
DTEND:20191127T163000
SEQUENCE:0
TRANSP:OPAQUE
END:VEVENT
END:VCALENDAR