BEGIN:VCALENDAR
VERSION:2.0
PRODID:-//jEvents 2.0 for Joomla//EN
CALSCALE:GREGORIAN
METHOD:PUBLISH
BEGIN:VEVENT
UID:efc85acf98c9fa99c4edb8b97f69daed
CATEGORIES:22. Bezirk
CREATED:20191113T123228
SUMMARY:MAWIBA-Mama-Baby-Tanz
LOCATION:Tanzschule Schwebach\, Maculangasse 1B\, 1220 Wien
DESCRIPTION:Ihr wollten dem Vorweihnachtsstress für kurzer Zeit entkommen?\nDann seid I
 hr hier genau richtig.\nLasst Euch die GUTE-LAUNE-STUNDE nicht entgehen und
  ganz nebenbei tut Ihr auch eurem Beckenboden etwas gutes.\nIch biete momen
 tan einen Mix-Kurs an, wo Schwangere und Mamas mit Babys herzlich willkomme
 n sind.\nIn dieser besonderen Zeit hält Tanzen fit, macht Spaß und stärkt d
 ie Mutter-Kind-Bindung bei den Schwangeren und auch wenn die Babys schon da
  sind, denn diese können sich während die Mama tanzt sich in einem Tragetuc
 h oder Tragehilfe an sie kuscheln.\nWenn du mit einer Freundin kommt, gibt 
 es hier auch den Freundinnen-Rabatt oben drauf.\nÜberzeugt Euch einfach sel
 bst. An folgenden Terminen geht es los:\nMittwoch, 20.11./27.11./04.12./11.
 12. von 16:30-17:30 Uhr\nORT: Tanzschule Schwebach, Maculangasse 1b, 1220 W
 ien\nBitte um Anmeldung unter: mama-baby-tanzen@gmx.at\nIch würde mich freu
 en, euch bald in einen von meinen Kursen begrüßen zu dürfen.\nEure Bettina\
 n
X-ALT-DESC;FMTTYPE=text/html:<p>Ihr wollten dem Vorweihnachtsstress für kurzer Zeit entkommen?</p><p>Dan
 n seid Ihr hier genau richtig.<br />Lasst Euch die GUTE-LAUNE-STUNDE nicht 
 entgehen und ganz nebenbei tut Ihr auch eurem Beckenboden etwas gutes.</p><
 div class="text_exposed_show"><p>Ich biete momentan einen Mix-Kurs an, wo S
 chwangere und Mamas mit Babys herzlich willkommen sind.<br />In dieser beso
 nderen Zeit hält Tanzen fit, macht Spaß und stärkt die Mutter-Kind-Bindung 
 bei den Schwangeren und auch wenn die Babys schon da sind, denn diese könne
 n sich während die Mama tanzt sich in einem Tragetuch oder Tragehilfe an si
 e kuscheln.</p><p>Wenn du mit einer Freundin kommt, gibt es hier auch den F
 reundinnen-Rabatt oben drauf.</p><p style="text-align: center;">Überzeugt E
 uch einfach selbst. An folgenden Terminen geht es los:<br /><strong>Mittwoc
 h, 20.11./27.11./04.12./11.12. von 16:30-17:30 Uhr</strong></p><p><span sty
 le="text-decoration: underline;">ORT</span>: Tanzschule Schwebach, Maculang
 asse 1b, 1220 Wien</p><p style="text-align: center;"><span style="text-deco
 ration: underline;">Bitte um Anmeldung unter:</span> <strong>mama-baby-tanz
 en@gmx.at</strong></p><p>Ich würde mich freuen, euch bald in einen von mein
 en Kursen begrüßen zu dürfen.<br />Eure Bettina</p></div>
CONTACT:mama-baby-tanzen@gmx.at
DTSTAMP:20260423T142720
DTSTART:20191211T153000
DTEND:20191211T163000
SEQUENCE:0
TRANSP:OPAQUE
END:VEVENT
END:VCALENDAR