BEGIN:VCALENDAR
VERSION:2.0
PRODID:-//jEvents 2.0 for Joomla//EN
CALSCALE:GREGORIAN
METHOD:PUBLISH
BEGIN:VEVENT
UID:8aac91e309151bd29012d90c6065159f
CATEGORIES:2. Bezirk
CREATED:20191121T200849
SUMMARY:Kinderwagen-Block beim 4. globalen Klimastreik
LOCATION:U2 Krieau (ÖMV Zentrale)
DESCRIPTION:<p>Im Rahmen des 4. globalen Klimastreiks in Wien - Bring your Baby Friends
 !!! <br />Unsere Babies sind die Generation, die die Klimakrise am allermei
 sten zu spüren bekommen werden! Wir geben ihnen eine Stimme und setzen uns 
 für ihr Recht auf eine lebbare und lebenswerte Zukunft ein! Komm mit deinem
  Baby und/oder Kleinkind und nimm Oma und Opa auch gleich mit! Gemeinsam bi
 lden wir das Schlusslicht beim 4 globalen Klimastreik! <br />Zeitplan: <br 
 />11:50 – Treffpunkt bei der OMV Zentrale in Wien Krieau <br />12:00 - Star
 t Richtung Vorgartenstraße, Ausstellungsstraße, Praterstern, Praterstraße, 
 Aspernbrücke bis zum Nachhaltigkeitsministerium</p>
CONTACT:https://www.facebook.com/events/588280601978888/
DTSTAMP:20260423T170029
DTSTART:20191129T105000
DTEND:20191129T140000
SEQUENCE:0
TRANSP:OPAQUE
END:VEVENT
END:VCALENDAR