BEGIN:VCALENDAR
VERSION:2.0
PRODID:-//jEvents 2.0 for Joomla//EN
CALSCALE:GREGORIAN
METHOD:PUBLISH
BEGIN:VEVENT
UID:8b33440a60ec59c2715a535ea60b3f9f
CATEGORIES:7. Bezirk
CREATED:20191124T195052
SUMMARY:MamaMusik – Konzertserie Vol.5
LOCATION:Klaviergalerie\, Kaiserstraße 10\, 1070 Wien
DESCRIPTION:<p>Haben sie schon einmal von der Weihnachtshexe Chräsamdemia gehört? Nicht
 ? Dann sollten sie unbedingt am 15.12 zu unserem Konzert kommen. Eine wunde
 rbare Geschichte über das Leben, seinen Schwierigkeiten und darüber wie ein
 fach man eigentlich glücklich werden kann. Sehen und hören sie wie die etwa
 s vergessliche Chräsamdemia das erstarrte Herz der Operndiva La Cravalla wi
 eder erwärmt und wie sie den armen Piverino wieder zu einem glücklich Leben
  verschafft. Viel Musik und viel Freude, ein Spaß für Jung und Alt.</p><p> 
 </p><p style="padding-left: 90px; text-align: center;"><strong>MamaMusik – 
 Konzertserie</strong></p><p style="padding-left: 90px; text-align: center;"
 >"Kleinkinder sind herzlich willkommen!" Vol.5</p><p style="padding-left: 9
 0px; text-align: center;">Weihnachtskonzert für Kinder</p><p style="padding
 -left: 90px; text-align: center;"><a href="https://www.facebook.com/events/
 722757654877090/">https://www.facebook.com/events/722757654877090/</a></p><
 p style="padding-left: 90px; text-align: center;"> </p><p style="padding-le
 ft: 90px; text-align: center;">So. 15.12.2019.</p><p style="padding-left: 9
 0px; text-align: center;">11.00-11.45 Uhr (Einlass 10.40 Uhr)</p><p> </p><p
 >Kaisersaal (KLAVIERgalerie)</p><p>Kaiserstrasse 10, 1070 Wien</p><p> </p><
 p>Sopran / Vanja Kugler Trajkovic </p><p>Sopran / Michiko Schmitt</p><p>Ten
 or / Alexander Maximilian Lang (als Gast)</p><p>Klavier / Nana Masutani</p>
 <p> </p><p>Erwachsene: 15€  Studenten: 10€</p><p>Kinder(unter 10 Jahren): K
 ostenlos</p><p>*Auch Kleinkinder sind herzlich willkommen!!</p><p> </p><p>I
 nfo &amp; Karten Reservierung</p><p>office@mamamusik.com</p><p><a href="htt
 p://www.mamamusik.com/index.html">http://www.mamamusik.com/index.html</a></
 p><p> </p><p>——————————————————————————————————</p><p> </p><p>Interessieren
  Sie sich dafür ihre Kinder klassische Musik erfahren zu lassen, aber ihr B
 aby ist noch zu klein dafür? </p><p>Bei unserem Konzert ist das überhaupt k
 ein Problem.</p><p>Manche Babys schauen und hören aufmerksam zu, manche Bab
 ys essen Mandarinen und andere verschlafen heimlich das Konzert.</p><p> </p
 ><p>Bei unserem letzten Konzert waren viele kleine Kinder unter 2 Jahren in
  unserem Publikum und dabei waren sie ganz brav! (Aber natürlich können Sie
  kurz den Saal verlassen falls notwendig, auch während gerade gesungen wird
 .) </p><p> </p><p>Wir freuen uns auf Ihr/Euer Kommen!</p><p>Das Team von Ma
 maMusik</p>
CONTACT:office@mamamusik.com
X-EXTRAINFO:[preis='1500'][anmeldung='true']
DTSTAMP:20260423T124013
DTSTART:20191215T100000
DTEND:20191215T104500
SEQUENCE:0
TRANSP:OPAQUE
END:VEVENT
END:VCALENDAR