BEGIN:VCALENDAR
VERSION:2.0
PRODID:-//jEvents 2.0 for Joomla//EN
CALSCALE:GREGORIAN
METHOD:PUBLISH
BEGIN:VEVENT
UID:a7d11e26c34e50ca650280cc96669034
CATEGORIES:18. Bezirk
CREATED:20191125T093703
SUMMARY: ElternBESTzeit  mit Familientrainerin Claudia U.
LOCATION:SPIELRINGEL Mollgasse 11-13
DESCRIPTION:Starke Kinder brauchen Liebe\nWer kennt sie schon, die 5 Sprachen der Liebe
 , die unser Herz höher schlagen lassen? Zuerst entdecken wir unsere eigene 
 Liebessprache und dann machen wir uns auf die Suche nach der Liebessprache 
 unseres Partners und unseres Kindes. Wie kann ich meinem Kind meine Liebe z
 eigen, dass sie auch ankommt?\nKosten: €25,00 oder gemeinsam als Paar €40,0
 0\nInfo &amp; Anmeldung:\nClaudia@familientrainerin.com (mailto:Claudia@fam
 ilientrainerin.com)\n
X-ALT-DESC;FMTTYPE=text/html:<p><strong>Starke Kinder brauchen Liebe</strong></p><p><strong>Wer kennt si
 e schon, die 5 Sprachen der Liebe, die unser Herz höher schlagen lassen? Zu
 erst entdecken wir unsere eigene Liebessprache und dann machen wir uns auf 
 die Suche nach der Liebessprache unseres Partners und unseres Kindes. Wie k
 ann ich meinem Kind meine Liebe zeigen, dass sie auch ankommt?</strong></p>
 <p><span class="text-primary">Kosten:</span> €25,00 oder gemeinsam als Paar
  €40,00</p><p><span class="text-primary">Info &amp; Anmeldung:</span></p><p
 ><a href="mailto:Claudia@familientrainerin.com">Claudia@familientrainerin.c
 om</a></p>
X-EXTRAINFO:[preis='2500'][anmeldung='true']
DTSTAMP:20260425T134444
DTSTART:20191129T150000
DTEND:20191129T163000
SEQUENCE:0
TRANSP:OPAQUE
END:VEVENT
END:VCALENDAR