BEGIN:VCALENDAR
VERSION:2.0
PRODID:-//jEvents 2.0 for Joomla//EN
CALSCALE:GREGORIAN
METHOD:PUBLISH
BEGIN:VEVENT
UID:852818097590d17ceb812c6a5e5dc60d
CATEGORIES:18. Bezirk
CREATED:19700101T010000
SUMMARY:Sinnesspielgruppe für Kleinstkinder 
LOCATION:SPIELRINGEL Mollgasse 11-13
DESCRIPTION:Sinnesspielgruppe für Kleinstkindervon ca. 10 Monaten bis 2 Jahre (mit Begl
 eitperson)Start:\n 5.12..2019 mit Claudia (http://schwangerschaft-elternsch
 aft.at/das-team/claudia/)\nKurstag:\nDonnerstag 10:00-11:00\nTermine: 5.12.
 , 12.12., 19.12., 9.1., 16.1.\n€ 75 (5 Wochen-Kurs)\nInfo &amp; Anmeldung:\
 noffice@spielringel.at (mailto:kontakt@schwangerschaft-elternschaft.at)\n„S
 age es mir, und ich werde es vergessen. Zeige es mir, und ich werde es viel
 leicht behalten. Lass es mich tun, und ich werde es können.“\nKonfuzius\nIn
  unserer Sinnesspielgruppe entdecken die Kinder spielend viel Neues und ler
 nen dabei auch noch neue Freunde kennen. Die Sinne der Kinder werden mit Hi
 lfe verschiedener Materialien spielerisch angeregt, es wird experimentiert 
 und auch gebastelt. Achtsamkeit, Wahrnehmungsförderung und Sinnesschulung s
 tehen im Vordergrund! Kreisspiele, Kniereiter und Fingerreime gehören genau
 so dazu, wie der Austausch mit anderen Eltern.\nGenießt die Zeit beim gemei
 nsamen Spielen und Entdecken mit euren Kindern!\nBitte Kleidung anziehen, d
 ie auch schmutzig werden darf!\n
X-ALT-DESC;FMTTYPE=text/html:<div class="row"><div class="col-md-pull-6 col-md-6 col-xs-12"><header><h2 
 class="element-header "><strong>Sinnesspielgruppe für Kleinstkinder</strong
 ></h2><h3 class="element-subheader ">von ca. 10 Monaten bis 2 Jahre (mit Be
 gleitperson)</h3></header><p><span class="text-primary">Start:</span><br />
  5.12..2019 mit <a href="http://schwangerschaft-elternschaft.at/das-team/cl
 audia/">Claudia</a></p><p><span class="text-primary">Kurstag</span>:</p><p>
 Donnerstag 10:00-11:00</p><p><span class="text-primary">Termine:</span> 5.1
 2., 12.12., 19.12., 9.1., 16.1.</p><p>€ 75 (5 Wochen-Kurs)</p><p><span clas
 s="text-primary">Info &amp; Anmeldung:</span><br /><a href="mailto:kontakt@
 schwangerschaft-elternschaft.at">office@spielringel.at</a></p></div></div><
 div id="c375" class="frame frame-default frame-type-text frame-background- 
 frame-no-backgroundimage frame-space-before-none frame-space-after-none"><d
 iv class="frame-container"><div class="frame-inner"><p>„Sage es mir, und ic
 h werde es vergessen. Zeige es mir, und ich werde es vielleicht behalten. L
 ass es mich tun, und ich werde es können.“</p><p>Konfuzius</p><p>In unserer
  Sinnesspielgruppe entdecken die Kinder spielend viel Neues und lernen dabe
 i auch noch neue Freunde kennen. Die Sinne der Kinder werden mit Hilfe vers
 chiedener Materialien spielerisch angeregt, es wird experimentiert und auch
  gebastelt. Achtsamkeit, Wahrnehmungsförderung und Sinnesschulung stehen im
  Vordergrund! Kreisspiele, Kniereiter und Fingerreime gehören genauso dazu,
  wie der Austausch mit anderen Eltern.</p><p>Genießt die Zeit beim gemeinsa
 men Spielen und Entdecken mit euren Kindern!</p><p>Bitte Kleidung anziehen,
  die auch schmutzig werden darf!</p></div></div></div>
CONTACT:www.spielringel.at
X-EXTRAINFO:[preis='7500'][anmeldung='true']
DTSTAMP:20260423T142933
DTSTART:20191205T090000
DTEND:20191205T100000
SEQUENCE:0
RRULE:FREQ=WEEKLY;UNTIL=20191220T000000Z;INTERVAL=1;BYDAY=TH
TRANSP:OPAQUE
END:VEVENT
END:VCALENDAR