BEGIN:VCALENDAR
VERSION:2.0
PRODID:-//jEvents 2.0 for Joomla//EN
CALSCALE:GREGORIAN
METHOD:PUBLISH
BEGIN:VEVENT
UID:a19aae19303e4692b58869ece29bf721
CATEGORIES:18. Bezirk
CREATED:20191127T142557
SUMMARY:Kreativer Adventnachmittag 
LOCATION:SPIELRINGEL Mollgasse 11-13
DESCRIPTION:<p>Unsere Musikpädagogin Angelika wird mit euch den Advent, die schönste Ze
 it im Jahr besingen, außerdem werden wir kleine Weihnachtsgeschenke basteln
  und zur Stärkung gibt es für alle Tee und Kekse! (empfohlen für Kinder von
  2-6 Jahren)</p><p>Mittwoch, 18.12.2019 15:00-17:30 Uhr mit Angelika und Cl
 audia</p><p><span class="text-primary">Kosten:</span><br /> 25 Euro pro Erw
 achsenen mit einem Kind (Geschwisterbabys dürfen mitgenommen werden und zah
 len natürlich nichts!)</p><p><span class="text-primary">Info &amp; Anmeldun
 g:</span> office@spielringel.at</p>
CONTACT:www.spielringel.at
X-EXTRAINFO:[preis='2500'][anmeldung='true']
DTSTAMP:20260423T172131
DTSTART:20191218T140000
DTEND:20191218T163000
SEQUENCE:0
TRANSP:OPAQUE
END:VEVENT
END:VCALENDAR