BEGIN:VCALENDAR
VERSION:2.0
PRODID:-//jEvents 2.0 for Joomla//EN
CALSCALE:GREGORIAN
METHOD:PUBLISH
BEGIN:VEVENT
UID:b85c00c59a9045fff2c7c56bf76f7c08
CATEGORIES:6. Bezirk
CREATED:20191212T210946
SUMMARY:Workshop: "Achtsamkeit und Meditation für Schwangere"
LOCATION:Retreat-Vienna: Nelkengasse 6\, 1060 Wien
DESCRIPTION:Fundierte wissenschaftliche Grundlagen der Achtsamkeit und Meditation helfe
 n Dir dabei, an diesem erholsamen Nachmittag, dein Herz weiter zu öffnen un
 d die Bindung zu deinem Baby hier und jetzt zu stärken.\nDu schöpfst Kraft,
  Intuition und Fokus aus deinem Inneren und machst dich bereit für die Gebu
 rt deines Kindes.\nPositive Wirkungen. Die Meditation hilft Dir:\n\n - Selb
 stvertrauen aufzubauen\n - Deinem Mutter-Instinkt zu folgen\n - Ruhe zu fin
 den\n - Gedanken zu ordnen \n\n \nWeitere Infos über Ananda und Meditations
 - &amp; Achtsamkeitstraining mit Carmen Alonso findest Du hier:\nWebsite: h
 ttps://anandavienna.at (https://l.facebook.com/l.php?u=https%3A%2F%2Fananda
 vienna.at%2F%3Ffbclid%3DIwAR0It-CRYCRkfH-HQXi-Wm0pejB3RvukoPaZc8O1zYRZ7xy8p
 KNxD01-Mgg&amp;h=AT1k6KmrzoNMM3VlcoxnsDiNKijSij-BzaaWdkPeqnEv7hrOP6sTDGQE5E
 gMI7dl_WAU3JsGX1ZCNSYdrYYTiouIW_bcaMCogB_suXwURjAi1Y1G2hD-wyg_4B4VCpbSCMU0E
 Q_iO55h_W6z7IgN0pY)\nFB: https://m.facebook.com/anandatraining (https://www
 .facebook.com/anandatraining/)\nIch freue mich auf Dich!\n \nANANDA - Medit
 ations-&amp; Achtsamkeitstraining\nCarmen Alonso\nPsychologische Beratung\n
 Meditations-&amp; Achtsamkeitsleiterin\n \n \n
X-ALT-DESC;FMTTYPE=text/html:<p><strong>Fundierte wissenschaftliche Grundlagen</strong> der Achtsamkeit 
 und Meditation helfen Dir dabei, an diesem erholsamen Nachmittag, dein Herz
  weiter zu öffnen und die Bindung zu deinem Baby hier und jetzt zu stärken.
 </p><p>Du schöpfst Kraft, Intuition und Fokus aus deinem Inneren und machst
  dich bereit für die Geburt deines Kindes.</p><p><strong>Positive Wirkungen
 . Die Meditation hilft Dir:</strong></p><ul><li>Selbstvertrauen aufzubauen<
 /li><li>Deinem Mutter-Instinkt zu folgen</li><li>Ruhe zu finden</li><li>Ged
 anken zu ordnen</li></ul><p> </p><p></p><p> </p><p>Weitere Infos über Anand
 a und Meditations- &amp; Achtsamkeitstraining mit Carmen Alonso findest Du 
 hier:</p><p style="text-align: left;">Website: <a href="https://l.facebook.
 com/l.php?u=https%3A%2F%2Fanandavienna.at%2F%3Ffbclid%3DIwAR0It-CRYCRkfH-HQ
 Xi-Wm0pejB3RvukoPaZc8O1zYRZ7xy8pKNxD01-Mgg&amp;h=AT1k6KmrzoNMM3VlcoxnsDiNKi
 jSij-BzaaWdkPeqnEv7hrOP6sTDGQE5EgMI7dl_WAU3JsGX1ZCNSYdrYYTiouIW_bcaMCogB_su
 XwURjAi1Y1G2hD-wyg_4B4VCpbSCMU0EQ_iO55h_W6z7IgN0pY">https://anandavienna.at
 </a></p><p style="text-align: left;">FB: <a href="https://www.facebook.com/
 anandatraining/">https://m.facebook.com/anandatraining</a></p><p style="tex
 t-align: left;">Ich freue mich auf Dich!</p><p style="text-align: left;"> <
 /p><p>ANANDA - Meditations-&amp; Achtsamkeitstraining</p><p>Carmen Alonso</
 p><p>Psychologische Beratung</p><p>Meditations-&amp; Achtsamkeitsleiterin</
 p><p> </p><p> </p>
CONTACT:https://www.anandavienna.at/
X-EXTRAINFO:[preis='3000'][anmeldung='true']
DTSTAMP:20260423T152813
DTSTART:20190119T130000
DTEND:20190119T153000
SEQUENCE:0
TRANSP:OPAQUE
END:VEVENT
END:VCALENDAR