BEGIN:VCALENDAR
VERSION:2.0
PRODID:-//jEvents 2.0 for Joomla//EN
CALSCALE:GREGORIAN
METHOD:PUBLISH
BEGIN:VEVENT
UID:b5ae21c26f9dd798ddc21314a4443a91
CATEGORIES:8. Bezirk
CREATED:20200819T091440
SUMMARY:Entwicklung des Kindes im 4., 5. und 6. Lebensjahr: Das Kindergartenalter
LOCATION:EKIZ Wien\, Piaristengasse 32\, 1080 Wien
DESCRIPTION:Kursleitung:\nMag. Brigitte Wysoudil-Dobrowsky\nIBCLC, Pädagogin, Mutter vo
 n drei Kindern, Familienberaterin, ausgebildet bei Jesper Juul\n\nThemen:\n
 \n - Bewegung die wichtigste Voraussetzung für eine gesunde Entwicklung\n -
  Über Fantasie – das magische Weltbild des Kindes\n - Fragealter\n - Entwic
 klung des Selbstwertgefühls\n - Auf in die Selbständigkeit – Alltagskompete
 nz – gemeinsames Erleben in der Familie\n - Soziale Kompetenzen – Freunde w
 erden wichtig\n - Wie viel Erziehung braucht ein Kind zwischen 3 und 6 Jahr
 en\n - Raum geben und die eigenen Grenzen vermitteln\n - Umgang mit starken
  Gefühlen wie Aggression, Trauer, Ängste, Schmerz\nKinderstreitigkeiten\n -
  Psychosexuelle Entwicklung – die eigene Geschlechtsidentität finden\n - Ge
 sunde Ernährung, ausgewogener Alltag, Medienkonsum\n - Über Bettnässen, Näg
 elbeißen, Flasche, Schnuller, große Schüchternheit, Zappelphilips, überhöht
 e Aggression \nDer Workshop bietet Platz für Ihre persönlichen Fragen und T
 hemen, die gerade im Leben mit Ihren Kindern wichtig sind.\n \nKurstermin: 
 Fr, 10. November 2023, 15-18 Uhr\nKursbetrag: 48 €\n
X-ALT-DESC;FMTTYPE=text/html:<p><strong>Kursleitung:</strong></p><p><strong>Mag. Brigitte Wysoudil-Dobro
 wsky</strong><br />IBCLC, Pädagogin, Mutter von drei Kindern, Familienberat
 erin, ausgebildet bei Jesper Juul</p><p><br /><strong>Themen:</strong></p><
 ul><li>Bewegung die wichtigste Voraussetzung für eine gesunde Entwicklung</
 li><li>Über Fantasie – das magische Weltbild des Kindes</li><li>Fragealter<
 /li><li>Entwicklung des Selbstwertgefühls</li><li>Auf in die Selbständigkei
 t – Alltagskompetenz – gemeinsames Erleben in der Familie</li><li>Soziale K
 ompetenzen – Freunde werden wichtig</li><li>Wie viel Erziehung braucht ein 
 Kind zwischen 3 und 6 Jahren</li><li>Raum geben und die eigenen Grenzen ver
 mitteln</li><li>Umgang mit starken Gefühlen wie Aggression, Trauer, Ängste,
  Schmerz<br />Kinderstreitigkeiten</li><li>Psychosexuelle Entwicklung – die
  eigene Geschlechtsidentität finden</li><li>Gesunde Ernährung, ausgewogener
  Alltag, Medienkonsum</li><li>Über Bettnässen, Nägelbeißen, Flasche, Schnul
 ler, große Schüchternheit, Zappelphilips, überhöhte Aggression</li></ul><p>
 &nbsp;</p><p><strong>Der Workshop bietet Platz für Ihre persönlichen Fragen
  und Themen, die gerade im Leben mit Ihren Kindern wichtig sind.</strong></
 p><p>&nbsp;</p><p>Kurstermin: Fr, 10. November 2023, 15-18 Uhr</p><p>Kursbe
 trag: 48 €</p>
CONTACT:https://www.elternkindzentrum.com/veranstaltungen/vortraege/89/entwicklung-des-kindes-im-4-5-und-6-lebensjahr.html
X-EXTRAINFO:[preis='4800'][anmeldung='true']
DTSTAMP:20260424T111618
DTSTART:20231110T140000
DTEND:20231110T170000
SEQUENCE:0
TRANSP:OPAQUE
END:VEVENT
END:VCALENDAR