BEGIN:VCALENDAR
VERSION:2.0
PRODID:-//jEvents 2.0 for Joomla//EN
CALSCALE:GREGORIAN
METHOD:PUBLISH
BEGIN:VEVENT
UID:0c0c9ff10462a34164fd7238f1f4e404
CATEGORIES:8. Bezirk
CREATED:20200819T091637
SUMMARY:Aggression – ja bitte! (Seminarreihe Jesper Juul)
LOCATION:EKIZ Wien\, Piaristengasse 32\, 1080 Wien
DESCRIPTION:<p><strong>Kursleitung:</strong></p><p><strong>Mag. Brigitte Wysoudil-Dobro
 wsky</strong><br />Pädagogin, Familienberaterin ausgebildet bei Jesper Juul
 </p><p>&nbsp;<br /><strong>Aufruf zu einem konstruktiven und positiven Umga
 ng mit diesem wichtigen Gefühl!</strong></p><p><br /><em>“Nicht Aggressione
 n führen zu Gewalt, sondern sie zu verdrängen und zu unterdrücken.”</em><br
  /><em>(Jesper Juul)</em></p><p><br />Aggression ist in unserer Gesellschaf
 t und besonders bei unseren Kindern unerwünscht.&nbsp;<br />Aggressives Ver
 halten gilt als Tabu und wird diskriminiert.<br /><strong>Was wir mit der U
 nterdrückung dieser legitimen Gefühle anrichten, ist uns nicht bewusst und 
 verdrängen wir gerne.</strong></p><ul><li>Über den Ursprung von Aggression 
 und warum sie für unser Leben so wichtig ist.</li><li>Es ist wichtig diese 
 zuzulassen und sie zu entschlüsseln.</li><li>Damit stärken wir die geistige
  Gesundheit, das Selbstwertgefühl und das Selbstvertrauen des Kindes.</li><
 li>Zwicken, kratzen, beißen, hauen, ausflippen – und was macht das mit uns 
 Eltern!?</li><li>Welche möglichen Ursachen stecken dahinter?</li><li>Aggres
 sion zwischen Kindern und Geschwisterrivalität</li><li>Konstruktive und des
 truktive Aggression</li><li>Wie können wir Eltern konkret mit dieser hochka
 rätigen Energie umgehen?</li><li>Fünf Schritte - Lösungsvorschläge</li><li>
 Empathie – das Gegengift gegen Gewalt!</li></ul><p>&nbsp;</p><p><strong>Nac
 h einem theoretischen Block ist Zeit für Ihre Fragen und Anliegen.</strong>
 </p><p>&nbsp;</p><p>Kurstermin: Fr, 24. November 2023, 15-18 Uhr</p><p>Kurs
 betrag: 48 €</p>
CONTACT:https://www.elternkindzentrum.com/kurse/kurse-fuer-eltern/40/aggression-ja-bitte.html
X-EXTRAINFO:[preis='4800'][anmeldung='true']
DTSTAMP:20260423T100711
DTSTART:20231124T140000
DTEND:20231124T170000
SEQUENCE:0
TRANSP:OPAQUE
END:VEVENT
END:VCALENDAR