BEGIN:VCALENDAR
VERSION:2.0
PRODID:-//jEvents 2.0 for Joomla//EN
CALSCALE:GREGORIAN
METHOD:PUBLISH
BEGIN:VEVENT
UID:1f8daa7ac226d757e457682ef4377047
CATEGORIES:8. Bezirk
CREATED:20210315T161420
SUMMARY:Stärken Sie das Selbstwertgefühl Ihres Kindes (Seminarreihe Jesper Juul)
LOCATION:EKIZ Wien\, Piaristengasse 32\, 1080 Wien
DESCRIPTION:<p><span style="text-decoration: underline;">Vortragende:<br /></span><br /
 ><strong>Mag. Brigitte Wysoudil-Dobrowsky</strong><br />Pädagogin, Familien
 beraterin ausgebildet bei Jesper Juul</p><p>&nbsp;<br />Dieser Workshop ist
  eine Einführung in die Begriffe „Selbstwertgefühl“ und „Selbstvertrauen“ f
 ür Eltern, Pflege- und Adoptiveltern, Au-Pairs, Großeltern und Kinderbetreu
 ungspersonen von Kindern im Alter von 0-13 Jahren.</p><p><br />Die Fähigkei
 t von Eltern ihr Kind wahrzunehmen und anzuerkennen, entscheidet darüber, w
 ie das Kind sich selber erfährt und wie sich sein Selbstgefühl entwickeln k
 ann. Auch Pflege- und Adoptiveltern können mit eben dieser Fähigkeit, mit i
 hrer eigenen Haltung und inneren Einstellung dazu beitragen.<br />Ein gesun
 des Selbstgefühl ist die Voraussetzung für Wohlbefinden, Lebensfreude und B
 eziehungsfähigkeit.<br />Ein starkes Selbstwertgefühl erleichtert es Ihrem 
 Kind auch mit neuen, schwierigen oder belastenden Situationen umzugehen, wi
 e z.B. Kindergarten- oder Schulbeginn, Trennung von den Eltern, Gruppendruc
 k unter Gleichaltrigen, Mobbing, Umgang mit Suchttmitteln wie Alkohol und D
 rogen etc.</p><p>&nbsp;</p><p>Themen:<br />Wie kann Ihr Kind ein gesundes S
 elbstwertgefühl entwickeln?<br />Wie vermeiden Sie das Selbstwertgefühl zu 
 schwächen?<br />Wie ein gesunder Selbstwert Beziehungen erleichtert!<br />W
 ie beeinflusst Ihr eigener Selbstwert den Selbstwert Ihres Kindes?<br />Neb
 en theoretischen Inhalten werden praktische Übungen präsentiert, Beispiele 
 aus dem Alltag besprochen, um einen konkrete Umsatz in die Praxis zu ermögl
 ichen und Literaturempfehlungen gegeben.</p><p>&nbsp;</p><p>Kurstermin: Do,
  16. November 2023, 17:30-20:30 Uhr</p><p>Kursbetrag: 48 €</p>
CONTACT:https://www.elternkindzentrum.com/kurse/kurse-fuer-eltern/33/staerken-sie-das-selbstwertgefuehl-ihres-kindes.html
X-EXTRAINFO:[preis='4800'][anmeldung='true']
DTSTAMP:20260423T123714
DTSTART:20231116T163000
DTEND:20231116T193000
SEQUENCE:0
TRANSP:OPAQUE
END:VEVENT
END:VCALENDAR