BEGIN:VCALENDAR
VERSION:2.0
PRODID:-//jEvents 2.0 for Joomla//EN
CALSCALE:GREGORIAN
METHOD:PUBLISH
BEGIN:VEVENT
UID:a80b7900a2d0d59b9b68cf4ba0c8b9c3
CATEGORIES:8. Bezirk
CREATED:20210315T165257
SUMMARY:Die Kunst mit gutem Gewissen Nein zu sagen (Seminarreihe Jesper Juul)
LOCATION:EKIZ Wien\, Piaristengasse 32\, 1080 Wien
DESCRIPTION:<p><strong>Vortragende:</strong></p><p><strong>Mag. Brigitte Wysoudil-Dobro
 wsky<br /></strong>Pädagogin, Familienberaterin ausgebildet bei Jesper Juul
 </p><p><strong><br />Warum Erwachsene mit gutem Gewissen Nein sagen dürfen 
 und das auch gut für die Entwicklung der Kinder ist. Nein zu sagen, wenn ma
 n Nein meint, heißt vor allem, Ja zu sich selbst zu sagen und für die eigen
 en Überzeugungen und Werte einzutreten</strong>.</p><ul><li><p>Woraus entst
 eht ein persönliches Nein, das nichts mit einer Abweisung zu tun hat?</p></
 li><li><p>Was lernt ein Kind von dem authentischen Nein seiner Eltern für s
 ein weiteres Leben?</p></li><li><p>Was erfährt es dabei über Grenzen?</p><p
 >Es geht im Workshop darum, was Kinder wirklich brauchen und was ein persön
 liches, freundliches und ehrliches "Nein" ausmacht.</p><p>Eltern sagen oft 
 aus den falschen Gründen "Ja", denn es ist schwierig zu den eigenen Kindern
  "Nein" zu sagen. Früher wurde "Nein" gesagt um sicher zu sein. Heute sagen
  die Eltern "Ja" um sicher zu sein, … dass alle Bedürfnisse der Kinder befr
 iedigt sind. Aber meist wird nur die Lust befriedigt und die Bedürfnisse bl
 eiben auf der Strecke.</p><p> </p><p>Der Workshop bietet Platz für Ihre per
 sönlichen Fragen und Themen, die gerade im Leben mit Ihren Kindern wichtig 
 sind.</p></li></ul><p> </p><p>Kurstermin: Fr, 12. Mai 2023, 15-18 Uhr</p><p
 >Kursbetrag: 48 €</p>
CONTACT:https://www.elternkindzentrum.com/veranstaltungen/vortraege/87/die-kunst-mit-gutem-gewissen-nein-zu-sagen.html
X-EXTRAINFO:[preis='4800'][anmeldung='true']
DTSTAMP:20260423T123538
DTSTART:20230512T130000
DTEND:20230512T160000
SEQUENCE:0
TRANSP:OPAQUE
END:VEVENT
END:VCALENDAR