BEGIN:VCALENDAR
VERSION:2.0
PRODID:-//jEvents 2.0 for Joomla//EN
CALSCALE:GREGORIAN
METHOD:PUBLISH
BEGIN:VEVENT
UID:911168a71c7512998e4fc80a0573fd58
CATEGORIES:8. Bezirk
CREATED:20210316T155423
SUMMARY:Stillvorbereitung
LOCATION:Piaristengasse 32\, 1080 Wien
DESCRIPTION:<p>Liebe werdende Mütter und Väter, Großeltern und Interessierte!</p><p><st
 rong><span style="text-decoration: underline;">Stillvorbereitung</span></st
 rong><span style="text-decoration: underline;"> <strong>bedeutet</strong></
 span><strong>:</strong></p><ul><li>Viel Wissen über gute Anlegetechniken</l
 i><li>Kompetenz im Umgang mit Startschwierigkeiten</li><li>Sicherheit bei v
 erschiedenen Stillposition</li><li>Handwerkszeug zur Brustpflege</li><li>Ge
 lassenheit und Ruhe durch hohe Eigenkompetenz</li><li>Wissen, wo ich mir Ra
 t holen kann</li></ul><p>Mit <strong>Mag<sup>a</sup> Bri Wysoudil-Dobrowsky
 , IBCLC</strong><br />International zertifizierte Still- und Laktationsbera
 terin<br /><br /></p><p><strong><span style="text-decoration: underline;">T
 hemen des Workshops:</span></strong></p><ul><li>Thema Muttermilch: Vorteile
  der Muttermilch für das Baby, die Mutter, die Familie&nbsp;und die Umwelt<
 br /> Optimale Ernährung, Schutz vor Infektionen, langfristige Schutzfunkti
 onen sowohl für das Kind als auch für die Mutter</li><li>Was ist vor der Ge
 burt zu tun! Müssen die Mamillen (Brustwarzen) wirklich auf das Stillen vor
 bereitet werden oder ist das ein Mythos!?</li><li>Was können die frischgeba
 ckenen Eltern unmittelbar nach der Geburt für einen optimalen Stillbeginn t
 un!</li><li>Was ist beim ersten Anlegen zu beachten!</li><li>Richtige Still
 positionen und richtige Anlegetechniken&nbsp;</li><li>Die hohe Bedeutung un
 d Wirkung des Kolostrums - die allererste Nahrung für das Neugeborene</li><
 li>Effizientes Saugen des Babys</li><li>Milcheinschuss der reifen Muttermil
 ch in den Tagen nach der Geburt</li><li>Nachfrage über das Saugen des Babys
  ergibt das Angebot von Muttermilch – "Ich habe zu wenig Milch!" Gibt es da
 s wirklich?</li><li>Woraus besteht eine Stillmahlzeit - Vordermilch und Hin
 termilch - ein 3-Gänge-Menü</li><li>Häufigkeit des Anlegens und des Stillen
 s, Länge einer Stillmahlzeit</li><li>Was ist "Clusterfeeding"!?</li><li>Was
  ist Wechselstillen?</li><li>Optimale Gewichtszunahme</li><li>Stillen ist v
 iel mehr als nur Nahrung - über die Bindung und das Bindungsverhalten von M
 utter und Kind</li><li>Falls es mit dem Stillen nicht so klappen sollte - w
 as kann ich tun!?</li><li>Literaturempfehlungen runden das Angebot ab</li><
 li>Alle Fragen der TeilnehmerInnen sind herzlich willkommen</li></ul><p><st
 rong>Richtige Stillpositionen und die richtige Anlegetechnik können entsche
 idend zum Stillerfolg beitragen.</strong></p><p>&nbsp;</p><p>weitere Termin
 e:</p><p>28. Sep., 2023 13:30-16:30</p><p>09. Nov., 2023 13:30-16:30</p><p>
 20. Dez., 2023 23:30-16:30</p><p><strong>Preis: </strong>€ 45 ,- pro Person
 / 25€ für den anderen werdenden Elternteil</p><p>&nbsp;</p>
CONTACT:https://www.elternkindzentrum.com/kurse/kurse-vor-der-geburt/104/stillvorbereitung.html
X-EXTRAINFO:[preis='4500'][anmeldung='true']
DTSTAMP:20260423T124039
DTSTART:20230816T113000
DTEND:20230816T143000
SEQUENCE:0
TRANSP:OPAQUE
END:VEVENT
END:VCALENDAR