BEGIN:VCALENDAR
VERSION:2.0
PRODID:-//jEvents 2.0 for Joomla//EN
CALSCALE:GREGORIAN
METHOD:PUBLISH
BEGIN:VEVENT
UID:e1b89295437fbabd84af92c501cc5e60
CATEGORIES:7. Bezirk
CREATED:19700101T010000
SUMMARY:Schlaf & Schlummerlieder für Schwangere & Familien mit Babys
LOCATION:online
DESCRIPTION:Singen tut gut, beruhigt und ist jederzeit verfügbar. Gemeinsam singen ist 
 zwar derzeit im selben Raum nicht möglich, doch auch online bereichert geme
 insames Singen den Alltag!\nBei diesem Angebot geht es in erster Linie um r
 uhige Lieder zum Einschlafen für müde Babys (egal ob im Bauch oder schon au
 f der Welt. ;)) Aber auch Mama, Papa und große Geschwister finden Gefallen 
 an alten Weisen und neuen Melodien.\nSingen hat eine Menge Vorteile - schon
  in der Schwangerschaft! Es steigert die Atmung und die Durchblutung, setzt
  Glückshormone frei und tut körperlich einfach gut. Bei Babys reguliert Vor
 singen Atmung, Herzschlag, beruhigt, macht Appetit und schenkt Geborgenheit
  - und die Stimme von der Mama ist für Babys einfach die tollste auf der We
 lt!\nDas Online-Singen ist auch gut geeignet für Menschen, die nicht gerne 
 vor anderen singen und trotzdem gemeinsam sein wollen – eure Mikros bleiben
  beim Singen nämlich ausgeschaltet!\nEva freut sich auf ein singendes Mitei
 nander!\n
X-ALT-DESC;FMTTYPE=text/html:<p>Singen tut gut, beruhigt und ist jederzeit verfügbar. Gemeinsam singen i
 st zwar derzeit im selben Raum nicht möglich, doch auch online bereichert g
 emeinsames Singen den Alltag!</p><p>Bei diesem Angebot geht es in erster Li
 nie um ruhige Lieder zum Einschlafen für müde Babys (egal ob im Bauch oder 
 schon auf der Welt. ;)) Aber auch Mama, Papa und große Geschwister finden G
 efallen an alten Weisen und neuen Melodien.</p><p>Singen hat eine Menge Vor
 teile - schon in der Schwangerschaft! Es steigert die Atmung und die Durchb
 lutung, setzt Glückshormone frei und tut körperlich einfach gut. Bei Babys 
 reguliert Vorsingen Atmung, Herzschlag, beruhigt, macht Appetit und schenkt
  Geborgenheit - und die Stimme von der Mama ist für Babys einfach die tolls
 te auf der Welt!</p><p>Das Online-Singen ist auch gut geeignet für Menschen
 , die nicht gerne vor anderen singen und trotzdem gemeinsam sein wollen – e
 ure Mikros bleiben beim Singen nämlich ausgeschaltet!</p><p>Eva freut sich 
 auf ein singendes Miteinander!</p>
CONTACT:rundumgeburt@nanaya.at
X-EXTRAINFO:[preis='1600'][anmeldung='true']
DTSTAMP:20260423T094331
DTSTART:20210519T160000
DTEND:20210519T170000
SEQUENCE:0
RRULE:FREQ=WEEKLY;UNTIL=20210527T000000Z;INTERVAL=1;BYDAY=WE
TRANSP:OPAQUE
END:VEVENT
END:VCALENDAR