BEGIN:VCALENDAR
VERSION:2.0
PRODID:-//jEvents 2.0 for Joomla//EN
CALSCALE:GREGORIAN
METHOD:PUBLISH
BEGIN:VEVENT
UID:69480c1cc66562e0755afed296a87d87
CATEGORIES:2. Bezirk
CREATED:20210420T111700
SUMMARY:Wie Babys schlafen - Entwicklung, Mythen & Träume ONLINE Vortrag
LOCATION:online EKiZ Kind&amp;Kegel
DESCRIPTION:<h2 class="unterstrich"><strong>Entwicklung, Mythen &amp; Träume: Wie Babys
  schlafen</strong> [Online-Vortrag]</h2><p>Vortrag zum Thema Gehirnentwickl
 ung im Baby- und Kleinkindalter und Konsequenzen für den Baby- und Kleinkin
 dschlaf. Warum schlafen Babys wie sie schlafen? Warum wachen Babys auf? Was
  kann man tun um sein Baby gut in den und im Schlaf zu begleiten.<br /> <br
  /> <span class="fett">Leitung:</span> Eva Dittinger, PhD<br /> Neurowissen
 schafterin, Mutter und zertifizierte Baby- und Kinderschlafbegleiterin <br 
 /> <span class="fett">Termin</span>: Dienstag, 11.05.21, 20<span class="kle
 inhoch">00</span> Uhr<br /> <span class="fett">Kosten</span>: € 20,- (€ 35,
 - für Paare)</p><p>Anmeldeschluss: Montag, 10. Mai 2021, 15:<span class="kl
 einhoch">00</span> Uhr,</p><p>Anmeldung an <a href="mailto:info@kind-und-ke
 gel.at" target="_blank" rel="noopener noreferrer">info@kind-und-kegel.at</a
 > Begrenzte Teilnehmer*innenzahl!</p><p class="covid19"><strong>Dieser Vort
 rag findet online statt.</strong><br /> Nach Anmeldung und Bezahlung wird e
 in Zugangslink per E-Mail zugeschickt.</p>
CONTACT:info@kind-und-kegel.at, 01 503 71 88
X-EXTRAINFO:[preis='2000'][anmeldung='true']
DTSTAMP:20260423T124031
DTSTART:20210511T180000
DTEND:20210511T200000
SEQUENCE:0
TRANSP:OPAQUE
END:VEVENT
END:VCALENDAR