BEGIN:VCALENDAR
VERSION:2.0
PRODID:-//jEvents 2.0 for Joomla//EN
CALSCALE:GREGORIAN
METHOD:PUBLISH
BEGIN:VEVENT
UID:ca5aaf8803cae7a6492684b360ec9d14
CATEGORIES:2. Bezirk
CREATED:20210428T123605
SUMMARY:Stoffwindeln&Windelfrei - Alles was du wissen musst! Online Vortrag
LOCATION:Online EkiZ Kind&amp;Kegel
DESCRIPTION:<h2 class="unterstrich"><strong>Stoffwindeln &amp; Windelfrei - Alles was d
 u wissen musst! [</strong>Online-Vortrag]</h2><p>Ein Workshop rund um die T
 hemen Wickeln, Windeln und Ausscheidungskommunikation. Hier erfähst du, wie
  es Spaß machen kann, mit Stoffwindeln zu wickeln, welche Kosten du dir ein
 sparen und gleichzeitig auch etwas für den empfindlichen Baby-Po machen kan
 nst. Es werden verschiedene Systeme, Marken und Materialien vorgestellt, Vo
 r- und Nachteile geklärt und aufgezeigt warum "windelfrei" nicht immer "ohn
 e Windel" bedeuten muss.<br /> Mit vielen theoretischen Inputs, aber auch R
 aum für individuelle Fragen und Austausch.</p><p><span class="fett">Leitung
 :</span> Mag.a Jennifer Hiller, zertifizierte Wickelberaterin, Stoffwindel-
  und Windelfrei-Beraterin, Erziehungswissenschaftlerin, Pädagogin, Mutter <
 br /> <strong><span class="fett">Termine: </span>Freitag, 14.05.21, 17:<spa
 n class="kleinhoch">00</span> - 19:<span class="kleinhoch">00</span> Uhr</s
 trong><br /> <span class="fett">Kosten</span>: €40,-<br /> <em><strong>Anme
 ldeschluss: Dienstag, 11. Mai 2021</strong>, 16:<span class="kleinhoch">00<
 /span> Uhr,</em></p><p>Anmeldungungen bitte an <a href="mailto:info@kind-un
 d-kegel.at" target="_blank" rel="noopener noreferrer">info@kind-und-kegel.a
 t</a> oder  telefonisch 01 503 71 88</p><p class="covid19">Dieser Workshop 
 findet online statt (ZOOM).<br /> Nach Anmeldung und Bezahlung wird ein Zug
 angslink per E-Mail zugeschickt.</p>
CONTACT:info@kind-und-kegel.at, 01 503 71 88, www.kind-und-kegel.at
X-EXTRAINFO:[preis='4000'][anmeldung='true']
DTSTAMP:20260423T160547
DTSTART:20210514T150000
DTEND:20210514T170000
SEQUENCE:0
TRANSP:OPAQUE
END:VEVENT
END:VCALENDAR