BEGIN:VCALENDAR
VERSION:2.0
PRODID:-//jEvents 2.0 for Joomla//EN
CALSCALE:GREGORIAN
METHOD:PUBLISH
BEGIN:VEVENT
UID:584e337ebd37320640ba56108d6f27d7
CATEGORIES:7. Bezirk
CREATED:20210525T124401
SUMMARY:Business Moms LunchBreak Quickie
DESCRIPTION:<p>Wir haben bereits einige erfolgreiche BUSINESS MOMS NETZWERK QUICKIEs hi
 nter uns und diese haben uns immer viel Freude bereitet.</p><p> </p><p>Dies
 mal dreht sich alles um das <strong>Thema SOCIAL MEDIA</strong></p><p> </p>
 <p>In den 1,5 Stunden virtuellen Netzwerken geht es also darum, euch auszut
 auschen, eure Erfahrungen, Tipps &amp; Tricks zu teilen und daraus zu lerne
 n.</p><p> </p><p>Wenn du also <strong>gute Social Media Tricks und Tipps au
 f Lager hast</strong>, dann gib sie gerne an die Community des Netzwerk-Qui
 ckies weiter.<br />Oder du hast Fragen? Dann stell sie der Community </p><p
 >Tickets: 11,88€</p><p> </p><p><a href="https://www.businessmoms.at/produkt
 /business-moms-lunchbreak-quickie/?fbclid=IwAR1IVODSuiZ3U9JHU1Koat8fXHJElQN
 ztqPatPsTgNPI6W7UNr5y6rnebow">https://www.businessmoms.at/produkt/business-
 moms-lunchbreak-quickie/?fbclid=IwAR1IVODSuiZ3U9JHU1Koat8fXHJElQNztqPatPsTg
 NPI6W7UNr5y6rnebow</a></p><p> </p><p>Ich freu mich auf alle Teilnehmerinnen
  und ein tolles virtuelles Netzwerken!</p><p> </p><p>LG Lisi</p><p> </p><p>
 PS: alle Business Mom NewComerinnen &amp; Rockstars haben auch 2021 die Mög
 lichkeit kostenlos teilzunehmen!</p>
DTSTAMP:20260423T123732
DTSTART:20210602T100000
DTEND:20210602T113000
SEQUENCE:0
TRANSP:OPAQUE
END:VEVENT
END:VCALENDAR