BEGIN:VCALENDAR
VERSION:2.0
PRODID:-//jEvents 2.0 for Joomla//EN
CALSCALE:GREGORIAN
METHOD:PUBLISH
BEGIN:VEVENT
UID:0365f6b1d2a77498e210bc83527cf524
CATEGORIES:2. Bezirk
CREATED:20210609T112406
SUMMARY:offenes Schlafberatungscafe 
LOCATION:EKiZ Kind&amp;Kegel\, Praterstraße 14/8\, derzeit online!
DESCRIPTION:Offenes Schlafberatungscafé \nDas Schlafverhalten von Babys und Kleinkinder
 n kann herausfordernd sein und viele Fragen aufwerfen wie z.B.: Wieso will 
 mein Kind nur im Arm oder bei mir im Bett schlafen? Wieso schläft mein Kind
  nicht durch? Ist es in Ordnung wenn ich mein Kind beim Einschlafen stille?
  Verwöhne ich mein Kind wenn ich es beim Einschlafen begleite? Das ist ganz
  normal, vielen Eltern geht es ähnlich.\nBei einer heißen Tasse Kaffee oder
  Tee seid ihr eingeladen, euch mit anderen Eltern auszutauschen und lernt d
 abei verschiedene Schlafsituationen kennen. Für eure individuellen Fragen u
 nd Anliegen steht eine ausgebildete Baby- und Kinderschlafbegleiterin berei
 t und zeigt Möglichkeiten auf, wie sich eure Schlafsituation entspannen kön
 nte.\nTermine:\n14.07 und 18.08.2021, 16:30-18h\n \n Anmeldung unter info@k
 ind-und-kegel.at (mailto:info@kind-und-kegel.at) bis  Dienstag 15:00 Uhr vo
 r dem jeweiligen Termin notwendig. \n Kosten: € 10,- pro Einheit\n
X-ALT-DESC;FMTTYPE=text/html:<h2><strong>Offenes Schlafberatungscafé <br /></strong></h2><p>Das Schlafve
 rhalten von Babys und Kleinkindern kann herausfordernd sein und viele Frage
 n aufwerfen wie z.B.: Wieso will mein Kind nur im Arm oder bei mir im Bett 
 schlafen? Wieso schläft mein Kind nicht durch? Ist es in Ordnung wenn ich m
 ein Kind beim Einschlafen stille? Verwöhne ich mein Kind wenn ich es beim E
 inschlafen begleite? Das ist ganz normal, vielen Eltern geht es ähnlich.</p
 ><p>Bei einer heißen Tasse Kaffee oder Tee seid ihr eingeladen, euch mit an
 deren Eltern auszutauschen und lernt dabei verschiedene Schlafsituationen k
 ennen. Für eure individuellen Fragen und Anliegen steht eine ausgebildete B
 aby- und Kinderschlafbegleiterin bereit und zeigt Möglichkeiten auf, wie si
 ch eure Schlafsituation entspannen könnte.</p><p class="covid19"><span clas
 s="fett">Termine</span>:<br /><strong>14.07 und 18.08.2021, 16:30-18h</stro
 ng><br /> <br /> Anmeldung unter <a href="mailto:info@kind-und-kegel.at" ta
 rget="_blank" rel="noopener noreferrer">info@kind-und-kegel.at</a> <strong>
 bis  Dienstag 15:<span class="kleinhoch">00</span> Uhr vor dem jeweiligen T
 ermin</strong> notwendig. <br /> <span class="fett">Kosten</span>: € 10,- p
 ro Einheit</p>
CONTACT:info@kind-und-kegel.at, 01 503 71 88, www.kind-und-kegel.at
X-EXTRAINFO:[preis='1000'][anmeldung='true']
DTSTAMP:20260423T135915
DTSTART:20210818T143000
DTEND:20210818T160000
SEQUENCE:0
TRANSP:OPAQUE
END:VEVENT
END:VCALENDAR