BEGIN:VCALENDAR
VERSION:2.0
PRODID:-//jEvents 2.0 for Joomla//EN
CALSCALE:GREGORIAN
METHOD:PUBLISH
BEGIN:VEVENT
UID:909b9d4c26c6ee959e902a604a881477
CATEGORIES:2. Bezirk
CREATED:20210609T173839
SUMMARY:Wissenschaftsstunde für 4-7jährige
LOCATION:EkiZ Kind&amp;Kegel\, 2.\, Praterstraße 14/8
DESCRIPTION:Wissenschaftsstunde für 4-7 Jährige:\n29.6., 13.7., 10.8., 24.8.; jeweils 1
 6:45-18:00\n \nAlter: 4-7 Jahre (ohne Eltern!); Offene Gruppe Mindestteilne
 hmer: 4\nBeschreibung:\n„Kinder sind von Natur aus neugierig. Als Naturwiss
 enschaftlerin freue ich mich Kinder spielerisch zu inspirieren und ihren na
 türlichen Forschergeist schon in jungen Jahren an Wissenschaft &amp; Techno
 logie heranzuführen. In dieser Wissenschaftsstunde behandeln wir einfache K
 onzepte aus dem Bereich der Chemiewissenschaften, und visualisieren diese i
 n einfachen Experimenten.“\n4 Einheiten € 55.-\n1 Einheit € 15.-\n
X-ALT-DESC;FMTTYPE=text/html:<p><strong><u>Wissenschaftsstunde für 4-7 Jährige:</u></strong></p><p>29.6.
 , 13.7<strong>.</strong>, <strong>10.8</strong>., 24.8.; jeweils 16:45-18:0
 0</p><p> </p><p>Alter: 4-7 Jahre (ohne Eltern!); Offene Gruppe Mindestteiln
 ehmer: 4</p><p>Beschreibung:</p><p>„Kinder sind von Natur aus neugierig. Al
 s Naturwissenschaftlerin freue ich mich Kinder spielerisch zu inspirieren u
 nd ihren natürlichen Forschergeist schon in jungen Jahren an Wissenschaft &
 amp; Technologie heranzuführen. In dieser Wissenschaftsstunde behandeln wir
  einfache Konzepte aus dem Bereich der Chemiewissenschaften, und visualisie
 ren diese in einfachen Experimenten.“</p><p>4 Einheiten € 55.-</p><p>1 Einh
 eit € 15.-</p>
CONTACT:info@kind-und-kegel.at, 01 503 71 88, www.kind-und-kegel.at
X-EXTRAINFO:[preis='1500'][anmeldung='true']
DTSTAMP:20260423T174141
DTSTART:20210810T144500
DTEND:20210810T160000
SEQUENCE:0
TRANSP:OPAQUE
END:VEVENT
END:VCALENDAR