BEGIN:VCALENDAR
VERSION:2.0
PRODID:-//jEvents 2.0 for Joomla//EN
CALSCALE:GREGORIAN
METHOD:PUBLISH
BEGIN:VEVENT
UID:e3c5920cb161648f8b62c82ef23a1b35
CATEGORIES:2. Bezirk
CREATED:20210609T173918
SUMMARY:Wissenschaftsstunde für 4-7jährige
LOCATION:EkiZ Kind&amp;Kegel\, 2.\, Praterstraße 14/8
DESCRIPTION:<p><strong><u>Wissenschaftsstunde für 4-7 Jährige:</u></strong></p><p>29.6.
 , 13.7<strong>.</strong>, 10.8., <strong>24.8.</strong>; jeweils 16:45-18:0
 0</p><p> </p><p>Alter: 4-7 Jahre (ohne Eltern!); Offene Gruppe Mindestteiln
 ehmer: 4</p><p>Beschreibung:</p><p>„Kinder sind von Natur aus neugierig. Al
 s Naturwissenschaftlerin freue ich mich Kinder spielerisch zu inspirieren u
 nd ihren natürlichen Forschergeist schon in jungen Jahren an Wissenschaft &
 amp; Technologie heranzuführen. In dieser Wissenschaftsstunde behandeln wir
  einfache Konzepte aus dem Bereich der Chemiewissenschaften, und visualisie
 ren diese in einfachen Experimenten.“</p><p>4 Einheiten € 55.-</p><p>1 Einh
 eit € 15.-</p>
CONTACT:info@kind-und-kegel.at, 01 503 71 88, www.kind-und-kegel.at
X-EXTRAINFO:[preis='1500'][anmeldung='true']
DTSTAMP:20260423T155725
DTSTART:20210824T144500
DTEND:20210824T160000
SEQUENCE:0
TRANSP:OPAQUE
END:VEVENT
END:VCALENDAR