BEGIN:VCALENDAR
VERSION:2.0
PRODID:-//jEvents 2.0 for Joomla//EN
CALSCALE:GREGORIAN
METHOD:PUBLISH
BEGIN:VEVENT
UID:779feb21fd2d50696d015b35735e355a
CATEGORIES:7. Bezirk
CREATED:20210705T102210
SUMMARY:Kinder stärken: Selbstwert, Motivation, Vertrauen
LOCATION:Online
DESCRIPTION:Wie können Eltern ihren Kindern Selbstwert, Selbstbewusstsein, Liebe und Ve
 rtrauen mitgeben, ihr Potenzial sehen und sie positiv fürs Leben stärken?\n
 Dieser Workshop vereint Wissen und Tools aus der (Entwicklungs-)psychologie
 , der Existenzanalyse, dem Kinder- und Jugendcoaching und der Selbstwertleh
 re und führt ein in die Arbeit mit Ressourcenkarten, mit Märchen, Schatzkis
 ten, dem Inneren Kind, abendlichen Gesprächsritualen und vielem mehr.\n Wor
 kshopleitung: Mag. Barbara Grütze (Elternberaterin)\nVeranstalter*in: VHS M
 ariahilf, Neubau, Josefstadt\nOrt: Online via Zoom\nWorkshop-Beitrag: € 22,
 50,- pro Person\nAnmeldung: online (https://www.vhs.at/de/k/279566108) über
  die Website der VHS\n
X-ALT-DESC;FMTTYPE=text/html:<p>Wie können Eltern ihren Kindern Selbstwert, Selbstbewusstsein, Liebe und
  Vertrauen mitgeben, ihr Potenzial sehen und sie positiv fürs Leben stärken
 ?</p><p>Dieser Workshop vereint Wissen und Tools aus der (Entwicklungs-)psy
 chologie, der Existenzanalyse, dem Kinder- und Jugendcoaching und der Selbs
 twertlehre und führt ein in die Arbeit mit Ressourcenkarten, mit Märchen, S
 chatzkisten, dem Inneren Kind, abendlichen Gesprächsritualen und vielem meh
 r.</p><div class="wp-block-spacer"> </div><p><strong>Workshopleitung:</stro
 ng> Mag. Barbara Grütze (Elternberaterin)<br /><strong>Veranstalter*in:</st
 rong> VHS Mariahilf, Neubau, Josefstadt<br /><strong>Ort: </strong>Online v
 ia Zoom<br /><strong>Workshop-Beitrag: </strong>€ 22,50,- pro Person<strong
 ><br />Anmeldung: </strong><a href="https://www.vhs.at/de/k/279566108">onli
 ne</a> über die Website der VHS</p>
CONTACT:kontakt@beziehungsvoll.at
X-EXTRAINFO:[preis='2250'][anmeldung='true']
DTSTAMP:20260423T094628
DTSTART:20210803T150000
DTEND:20210803T180000
SEQUENCE:0
TRANSP:OPAQUE
END:VEVENT
END:VCALENDAR