BEGIN:VCALENDAR
VERSION:2.0
PRODID:-//jEvents 2.0 for Joomla//EN
CALSCALE:GREGORIAN
METHOD:PUBLISH
BEGIN:VEVENT
UID:20f6b5cc99ea3752650fc68526a1152a
CATEGORIES:18. Bezirk
CREATED:20210721T110852
SUMMARY:Spielraum für mich und dich
LOCATION:Spielringel\, Mollgasse 11-13 1180 Wien
DESCRIPTION:<div class="frame frame-default frame-type-textpic frame-layout-0 frame-bac
 kground-none frame-no-backgroundimage frame-space-before-none frame-space-a
 fter-none"><header class="frame-header"><h2 class="element-header ">Spielra
 um für mich und dich</h2><h4>von 8-18 Monaten</h4></header><div class="fram
 e-container"><div class="frame-inner"><div class="textpic textpic-right"><d
 iv class="textpic-item textpic-gallery"> </div><div class="textpic-item tex
 tpic-text"><p><span class="text-primary font-weight-bold">Start: </span> 04
 .08.2021</p><p><span class="text-primary font-weight-bold">Mit: </span><a h
 ref="https://spielringel.at/fileadmin/team/">Netty</a></p><p><span class="t
 ext-primary font-weight-bold">Kurstag: </span> Mittwoch 09:30-10:30</p><p><
 span class="text-primary font-weight-bold">Termine: </span> 04.08., 11.08.,
 18.08.</p><p><span class="text-primary font-weight-bold">Kosten: </span> €4
 2,- (3-Wochen Kurs)</p><p>Wir müssen als Eltern unser Verhalten bewusst beo
 bachten, weil wir alles an unsere Kinder weitergeben. Unsere Art mit uns se
 lbst und mit unseren Kindern umzugehen beeinflusst ihre Gefühle und ihr Ver
 halten und hat eine fundamentale Bedeutung für ihre Gesundheit und spätere 
 Beziehungen. Im Spielraum für mich und dich angebotene Übungen, mit Achtsam
 keit, Körperwahrnehmung und Entspannungsmethoden, geben den Eltern die Mögl
 ichkeit mehr selbstverantwortlich da zu sein und die vorbereitete Umgebung 
 bietet freie Entdeckungsspiele für die Kleinen.</p><p>Hier wartet Selfcare 
 und psychomotorische Entwicklungsbegleitung auf euch, die auch eure Bindung
  stärkt.</p></div></div></div></div></div>
CONTACT:www.spielringel.at
X-EXTRAINFO:[preis='4200'][anmeldung='true']
DTSTAMP:20260423T124323
DTSTART:20210804T073000
DTEND:20210804T083000
SEQUENCE:0
TRANSP:OPAQUE
END:VEVENT
END:VCALENDAR