BEGIN:VCALENDAR
VERSION:2.0
PRODID:-//jEvents 2.0 for Joomla//EN
CALSCALE:GREGORIAN
METHOD:PUBLISH
BEGIN:VEVENT
UID:72d9b44665e4801e174fe585616fe814
CATEGORIES:14. Bezirk
CREATED:20210810T092730
SUMMARY:Eltern-Kind-Tanzwerkstatt (3-5 Jahre)
LOCATION:VHS Penzing\, Hütteldorfer Straße 112\, 1140 Wien
DESCRIPTION:<p>Eine bunte Mischung aus Kreistänzen, Tanz - und anderen Bewegungsspielen
  bietet Kindern und Eltern die Gelegenheit, gemeinsam neue Bewegungsmöglich
 keiten zu entdecken und auszuprobieren. Koordination und Rhythmusgefühl wer
 den gefördert, während Groß und Klein gemeinsam die Freude am Bewegen und a
 n der Musik genießen.</p><p>Nähere Informationen: <a href="https://www.vhs.
 at/de/k/276569789">VHS Penzing</a></p><p><strong>Kostenloses Schnuppern mög
 lich und Quereinstieg möglich! Preis für alle 6 Termine: 40,20 Euro.</stron
 g></p>
CONTACT:penzing@vhs.at
X-EXTRAINFO:[preis='4020'][anmeldung='true']
DTSTAMP:20260423T082622
DTSTART:20211004T140000
DTEND:20211004T150000
SEQUENCE:0
TRANSP:OPAQUE
END:VEVENT
END:VCALENDAR