BEGIN:VCALENDAR
VERSION:2.0
PRODID:-//jEvents 2.0 for Joomla//EN
CALSCALE:GREGORIAN
METHOD:PUBLISH
BEGIN:VEVENT
UID:ccea4b446c407d490651066281fa4398
CATEGORIES:7. Bezirk
CREATED:20210810T112512
SUMMARY:Safety First: Sichere Deine Dateien mit OneDrive
LOCATION:Zoom
DESCRIPTION:Das mit den Dateien und der Sicherheit ist immer so eine Sache. Wie oft sin
 d mir schon Bilder oder andere Dateien verloren gegangen, weil ein USB-Stic
 k defekt war, oder mein kompletter Laptop den Geist aufgegeben hat? Sowas i
 st immer extrem ärgerlich. Zum Glück habe ich dann irgendwann angefangen mi
 t OneDrive zu arbeiten. Vor allem dann, wenn ich mit anderen Business Moms 
 gemeinsam arbeite und wir alle Zugriff auf bestimmte Dateien brauchen.\n \n
 Unser Workshop befasst sich genau mit diesem Thema. Wie kann ich OneDrive n
 utzen, um meine Dateien möglichst schnell zu sichern? Und was hat OneDrive 
 sonst noch so zu bieten?\n \nDas lernst Du in diesem Workshop:\nWas ist eig
 entlich ein Cloud-Speicher?\nWie funktioniert die Oberfläche?\nWie kann ich
  Dateien Hoch- und Herunterladen?\nWie schaffe ich es, die Dateien online z
 u bearbeiten?\nWie synchronisiere ich Dateien und Verzeichnisse?\nUnd was h
 at es mit der Versionierung auf sich?\n \nNach den 1,5h bist du ein echter 
 OneDrive Kenner und kannst dein Erlerntes selbstständig anwenden.\n \nTicke
 ts um 36€ (inkl. MwSt.) gibts hier:\nhttps://www.businessmoms.at/produkt/on
 edrive/\nDie Expertin bei diesem Event Katharina Schwarzer von soprani Soft
 ware:\nKatharina ist seit 35 Jahren als Softwareentwicklerin tätig, seit üb
 er 20 Jahren ist sie selbständig. Schon lange ist sie zertifizierter Micros
 oft Office Master Specialist, also absoluter Profi, was Word, Excel, PowerP
 oint, Outlook, Access, … betrifft. Sie gibt ihr Wissen liebend gerne und mi
 t profunder didaktischer Kompetenz weiter, ihre Trainings und Coachings erh
 alten Bestnoten.\nSie hat vier Kinder großgezogen, die inzwischen alle erwa
 chsen sind, und kennt die Höhen und Tiefen des Daseins als „Business Mom“ s
 ehr gut.\n \n
X-ALT-DESC;FMTTYPE=text/html:<p>Das mit den Dateien und der Sicherheit ist immer so eine Sache. Wie oft 
 sind mir schon Bilder oder andere Dateien verloren gegangen, weil ein USB-S
 tick defekt war, oder mein kompletter Laptop den Geist aufgegeben hat? Sowa
 s ist immer extrem ärgerlich. Zum Glück habe ich dann irgendwann angefangen
  mit OneDrive zu arbeiten. Vor allem dann, wenn ich mit anderen Business Mo
 ms gemeinsam arbeite und wir alle Zugriff auf bestimmte Dateien brauchen.</
 p><p> </p><p>Unser Workshop befasst sich genau mit diesem Thema. Wie kann i
 ch OneDrive nutzen, um meine Dateien möglichst schnell zu sichern? Und was 
 hat OneDrive sonst noch so zu bieten?</p><p> </p><p>Das lernst Du in diesem
  Workshop:<br />Was ist eigentlich ein Cloud-Speicher?<br />Wie funktionier
 t die Oberfläche?<br />Wie kann ich Dateien Hoch- und Herunterladen?<br />W
 ie schaffe ich es, die Dateien online zu bearbeiten?<br />Wie synchronisier
 e ich Dateien und Verzeichnisse?<br />Und was hat es mit der Versionierung 
 auf sich?</p><p> </p><p>Nach den 1,5h bist du ein echter OneDrive Kenner un
 d kannst dein Erlerntes selbstständig anwenden.</p><p> </p><p>Tickets um 36
 € (inkl. MwSt.) gibts hier:</p><p>https://www.businessmoms.at/produkt/onedr
 ive/</p><p>Die Expertin bei diesem Event Katharina Schwarzer von soprani So
 ftware:<br />Katharina ist seit 35 Jahren als Softwareentwicklerin tätig, s
 eit über 20 Jahren ist sie selbständig. Schon lange ist sie zertifizierter 
 Microsoft Office Master Specialist, also absoluter Profi, was Word, Excel, 
 PowerPoint, Outlook, Access, … betrifft. Sie gibt ihr Wissen liebend gerne 
 und mit profunder didaktischer Kompetenz weiter, ihre Trainings und Coachin
 gs erhalten Bestnoten.<br />Sie hat vier Kinder großgezogen, die inzwischen
  alle erwachsen sind, und kennt die Höhen und Tiefen des Daseins als „Busin
 ess Mom“ sehr gut.</p><p> </p>
CONTACT: https://www.businessmoms.at/produkt/onedrive/
X-EXTRAINFO:[preis='3600'][anmeldung='true']
DTSTAMP:20260423T094534
DTSTART:20211125T191500
DTEND:20211125T204500
SEQUENCE:0
TRANSP:OPAQUE
END:VEVENT
END:VCALENDAR