BEGIN:VCALENDAR
VERSION:2.0
PRODID:-//jEvents 2.0 for Joomla//EN
CALSCALE:GREGORIAN
METHOD:PUBLISH
BEGIN:VEVENT
UID:1be281825e43a2f5887ba415d4c53ffd
CATEGORIES:14. Bezirk
CREATED:20210810T131748
SUMMARY:Eltern-Kind-Turnen (2,5-4 Jahre)
LOCATION:VHS Penzing\, Hütteldorfer Straße 112\, 1140 Wien
DESCRIPTION:<p>Dieses abwechslungsreiche Spiel- und Bewegungsprogramm bietet Kindern di
 e Möglichkeit, gemeinsam mit ihren Eltern neue Bewegungserfahrungen zu mach
 en. Sie lernen so mehr Sicherheit und Vertrauen in die eigenen Fähigkeiten.
  Oft findet in diesem Rahmen der erste, behutsam begleitete Kontakt mit and
 eren Kindern statt. Altersgerechte Spiele, Tänze und jede Menge Gelegenheit
  zum Turnen und Toben fördern Beweglichkeit, Geschicklichkeit und Rhythmusg
 efühl. Ziel: Die Kinder verfügen über mehr Bewegungssicherheit und -freihei
 t im Alltag.</p><p>Nähere Informationen: <a href="https://www.vhs.at/de/s?_
 token=ENiGpF1mFHkPb7MwfHS5H5UeuBqaWt0mDuvZSTaP&amp;q=10511437a">VHS Penzing
 </a></p><p><strong>Kostenloses Schnuppern und Quereinstieg möglich. Preis f
 ür alle 7 Termine: 42,00 Euro</strong></p>
CONTACT:penzing@vhs.at
X-EXTRAINFO:[preis='4200'][anmeldung='true']
DTSTAMP:20260423T082526
DTSTART:20211006T130000
DTEND:20211006T140000
SEQUENCE:0
TRANSP:OPAQUE
END:VEVENT
END:VCALENDAR