BEGIN:VCALENDAR
VERSION:2.0
PRODID:-//jEvents 2.0 for Joomla//EN
CALSCALE:GREGORIAN
METHOD:PUBLISH
BEGIN:VEVENT
UID:ffffa71236b8b3e32145a9a753b8c8c9
CATEGORIES:3. Bezirk
CREATED:20210820T173426
SUMMARY:Kinder+Frauen FLOHMARKT Wien St.Marx
LOCATION:Parkplatz neben Marxhalle\, Karl-Farkas-Gasse 2 in 1030 Wien
DESCRIPTION:Kinder+Frauen Flohmarkt am Parkplatz neben der Marxhalle Wien (Karl-Farkas-
 Gasse 2, 1030 Wien) von 9-13h. Jetzt eigenen Verkaufsplatz reservieren um 3
 0 Euro auf www.flohmarkt.geburtsallianz.at   (http://www.flohmarkt.geburtsa
 llianz.at)\nKEIN 3G Nachweis notwendig! Auto parkt am Standplatz, 5x4m Stan
 dfläche, Babyausstattung, Kinderkleidung, Spielzeug, Kinderbücher, Damenmod
 e, Schuhe, Taschen, Schmuck, Kosmetik und vieles mehr! EINTRITT FREI! viele
  Parkplätze am Flohmarktgelände!\nSelber verkaufen? hier Standplatz buchen 
 www.flohmarkt.geburtsallianz.at (http://www.flohmarkt.geburtsallianz.at)\n
X-ALT-DESC;FMTTYPE=text/html:<p><span style="font-size: 9.0pt; font-family: 'Tahoma',sans-serif; color: 
 #333333;">Kinder+Frauen Flohmarkt am Parkplatz neben der Marxhalle Wien (Ka
 rl-Farkas-Gasse 2, 1030 Wien) von 9-13h. <strong><span style="font-family: 
 'Tahoma',sans-serif;">Jetzt eigenen Verkaufsplatz reservieren</span></stron
 g> um 30 Euro auf <a href="http://www.flohmarkt.geburtsallianz.at"><span st
 yle="color: #1b57b1;">www.flohmarkt.geburtsallianz.at  </span></a></span></
 p><p style="font-variant-ligatures: normal; font-variant-caps: normal; orph
 ans: 2; text-align: start; widows: 2; -webkit-text-stroke-width: 0px; text-
 decoration-thickness: initial; text-decoration-style: initial; text-decorat
 ion-color: initial; word-spacing: 0px;"><em><span style="font-size: 9.0pt; 
 font-family: 'Tahoma',sans-serif; color: #333333;">KEIN 3G Nachweis notwend
 ig!</span></em><span style="font-size: 9.0pt; font-family: 'Tahoma',sans-se
 rif; color: #333333;"> Auto parkt am Standplatz, 5x4m Standfläche, Babyauss
 tattung, Kinderkleidung, Spielzeug, Kinderbücher, Damenmode, Schuhe, Tasche
 n, Schmuck, Kosmetik und vieles mehr! EINTRITT FREI! <strong><span style="f
 ont-family: 'Tahoma',sans-serif;">viele Parkplätze am Flohmarktgelände!</sp
 an></strong></span></p><p style="font-variant-ligatures: normal; font-varia
 nt-caps: normal; orphans: 2; text-align: start; widows: 2; -webkit-text-str
 oke-width: 0px; text-decoration-thickness: initial; text-decoration-style: 
 initial; text-decoration-color: initial; word-spacing: 0px;"><strong><span 
 style="font-size: 9.0pt; font-family: 'Tahoma',sans-serif; color: #333333;"
 >Selber verkaufen? hier Standplatz buchen <a href="http://www.flohmarkt.geb
 urtsallianz.at"><span style="color: #1b57b1; font-weight: normal;">www.floh
 markt.geburtsallianz.at</span></a></span></strong></p>
CONTACT:flohmarkt@geburtsallianz.at Tel.06504455577
DTSTAMP:20260423T094447
DTSTART:20211002T070000
DTEND:20211002T110000
SEQUENCE:0
TRANSP:OPAQUE
END:VEVENT
END:VCALENDAR