BEGIN:VCALENDAR
VERSION:2.0
PRODID:-//jEvents 2.0 for Joomla//EN
CALSCALE:GREGORIAN
METHOD:PUBLISH
BEGIN:VEVENT
UID:0a1b148f1f3db7fbe8462641c8c0a9b6
CATEGORIES:6. Bezirk
CREATED:20210903T183721
SUMMARY:In die Aromapflege hineinschnuppern (MaKiLi Aromapflege im Biolino Institut)
LOCATION:Biolino Institut; Sandwirtgasse 13/12\, 1060 Wien
DESCRIPTION:5 ätherische Öle, 2 Hydrolate (auch bekannt als Blütenwässer) und 2 fette P
 flanzenöle -\nmehr brauchst du für den Anfang gar nicht! \n \nDenn diese pa
 ar "Zutaten" sind so vielseitig einsetzbar, dass du mit ihnen viele Wehwehc
 hen lindern und das Wohlbefinden von dir und deiner Familie stärken kannst!
 \n Was erwartet dich? Dieses Seminar ist ideal, um die Aromapflege kennenzu
 lernen! Wir besprechen die vielfältigen Anwendungsmöglichkeiten der Aromapf
 lege - angefangen von der Verwendung einer Duftlampe über Duftstein und Rie
 chstift bis hin zum selbst hergestellten Badezusatz. \nDu erhältst Tipps wi
 e du das psychische Wohlbefinden verbessern kannst. Wie kannst du (Prüfungs
 -) Angst lindern, welche Möglichkeiten der Entspannung oder Schlafförderung
  gibt es? \nWeitere Themen sind unter anderem Baby,- und  Hautpflege, Schme
 rzlinderung und die  Linderung von Erkältungskrankheiten. Auch bewährte Hau
 smittel finden in diesem Seminar ihren Platz. \n Im Preis inkludiert sind e
 in Handout (inkl. aller Rezepte) und die besprochenen ätherischen Öle, Hydr
 olate und fetten Pflanzenöle sowie Anschauungsmaterial zum Kennenlernen vor
  Ort.  Ich freue mich, dich im Biolino Institut kennenzulernen! Lg, Martina
    
X-ALT-DESC;FMTTYPE=text/html:<p style="text-align: left;">5 ätherische Öle, 2 Hydrolate (auch bekannt al
 s Blütenwässer) und 2 fette Pflanzenöle -</p><p style="text-align: left;">m
 ehr brauchst du für den Anfang gar nicht! </p><p style="text-align: left;">
  </p><p style="text-align: left;">Denn diese paar "Zutaten" sind so vielsei
 tig einsetzbar, dass du mit ihnen viele Wehwehchen lindern und das Wohlbefi
 nden von dir und deiner Familie stärken kannst!</p><div class="kvgmc6g5 cxm
 mr5t8 oygrvhab hcukyx3x c1et5uql" style="text-align: left;"> </div><div cla
 ss="kvgmc6g5 cxmmr5t8 oygrvhab hcukyx3x c1et5uql" style="text-align: left;"
 ><strong>Was erwartet dich?</strong></div><div class="kvgmc6g5 cxmmr5t8 oyg
 rvhab hcukyx3x c1et5uql" style="text-align: left;"> </div><div class="kvgmc
 6g5 cxmmr5t8 oygrvhab hcukyx3x c1et5uql" style="text-align: left;">Dieses S
 eminar ist ideal, um die Aromapflege kennenzulernen!</div><div class="kvgmc
 6g5 cxmmr5t8 oygrvhab hcukyx3x c1et5uql" style="text-align: left;"> </div><
 ul style="text-align: left;"><li class="kvgmc6g5 cxmmr5t8 oygrvhab hcukyx3x
  c1et5uql" style="text-align: left;">Wir besprechen die vielfältigen Anwend
 ungsmöglichkeiten der Aromapflege - angefangen von der Verwendung einer Duf
 tlampe über Duftstein und Riechstift bis hin zum selbst hergestellten Badez
 usatz.</li></ul><p style="text-align: left;"> </p><ul style="text-align: le
 ft;"><li class="kvgmc6g5 cxmmr5t8 oygrvhab hcukyx3x c1et5uql" style="text-a
 lign: left;">Du erhältst Tipps wie du das psychische Wohlbefinden verbesser
 n kannst. Wie kannst du (Prüfungs-) Angst lindern, welche Möglichkeiten der
  Entspannung oder Schlafförderung gibt es?</li></ul><p style="text-align: l
 eft;"> </p><ul style="text-align: left;"><li class="kvgmc6g5 cxmmr5t8 oygrv
 hab hcukyx3x c1et5uql" style="text-align: left;">Weitere Themen sind unter 
 anderem Baby,- und  Hautpflege, Schmerzlinderung und die  Linderung von Erk
 ältungskrankheiten. Auch bewährte Hausmittel finden in diesem Seminar ihren
  Platz.</li></ul><p style="text-align: left;"> </p><div class="kvgmc6g5 cxm
 mr5t8 oygrvhab hcukyx3x c1et5uql" style="text-align: left;"> </div><div cla
 ss="kvgmc6g5 cxmmr5t8 oygrvhab hcukyx3x c1et5uql" style="text-align: left;"
 ><strong>Im Preis inkludiert</strong> sind ein Handout (inkl. aller Rezepte
 ) und die besprochenen ätherischen Öle, Hydrolate und fetten Pflanzenöle so
 wie Anschauungsmaterial zum Kennenlernen vor Ort.</div><div class="kvgmc6g5
  cxmmr5t8 oygrvhab hcukyx3x c1et5uql" style="text-align: left;"> </div><div
  class="kvgmc6g5 cxmmr5t8 oygrvhab hcukyx3x c1et5uql" style="text-align: le
 ft;"> </div><div class="o9v6fnle cxmmr5t8 oygrvhab hcukyx3x c1et5uql" style
 ="text-align: left;"><strong>Ich freue mich, dich im Biolino Institut kenne
 nzulernen! Lg, Martina</strong></div><div class="o9v6fnle cxmmr5t8 oygrvhab
  hcukyx3x c1et5uql"> </div><div class="o9v6fnle cxmmr5t8 oygrvhab hcukyx3x 
 c1et5uql"> </div><div class="o9v6fnle cxmmr5t8 oygrvhab hcukyx3x c1et5uql">
  </div>
CONTACT:www.makili.at
X-EXTRAINFO:[preis='3700'][anmeldung='true']
DTSTAMP:20260423T081810
DTSTART:20211008T150000
DTEND:20211008T173000
SEQUENCE:0
TRANSP:OPAQUE
END:VEVENT
END:VCALENDAR