BEGIN:VCALENDAR
VERSION:2.0
PRODID:-//jEvents 2.0 for Joomla//EN
CALSCALE:GREGORIAN
METHOD:PUBLISH
BEGIN:VEVENT
UID:da6b731b68d01311a3e50c5e288eac25
CATEGORIES:7. Bezirk
CREATED:20210911T074113
SUMMARY:Wie erreiche ich mein Kind? – Präsenz und Authentizität im Familienalltag
LOCATION:Online via Zoom
DESCRIPTION:<p><strong>Online-Webinar</strong></p><p>Wie gelingt die liebevolle „Leucht
 turm“-Führung, wenn ich im Stress bin?<br />Wie kann ich meine Erwartungen 
 so formulieren, dass mein Kind sie gut umsetzen kann?<br />Wie kann ich mei
 n Kind so sein lassen, wie es ist und dennoch meinen Bedürfnissen und Erwar
 tungen Raum geben?</p><p>In unserer Präsenz und Authentizität steckt die Eh
 rlichkeit zu uns und unseren Kindern, unendliche Freiheit, auf unsere Intui
 tion zu hören und die Möglichkeit, alle in der Familie so sein zu lassen un
 d so wertzuschätzen, wie sie sind – einschließlich uns selbst.In diesem Onl
 ine Workshop erfährt ihr warum Authentizität und Präsenz so wesentlich im Z
 usammenleben mit Kindern sind und wie ihr diese im Alltag gut leben könnt –
  anhand praktischer Beispiele und eurer Fragen aus eurem Familienalltag.</p
 ><p><strong>Workshop-Leitung: </strong>Mag.a Barbara Grütze<br /><strong>Ve
 ranstalter*in:</strong> Katholisches Bildungswerk Wien in Kooperation mit m
 einefamilie.at<br /><strong>Ort: </strong>Online via Zoom<br /><strong>Kose
 n:</strong> €15,- pro Bildschirm<br /><strong>Anmeldung</strong>: <a href="
 mailto:bildungszentrum@bildungswerk.at" target="_blank" rel="noopener noref
 errer">anmeldung@bildungswerk.at</a></p>
CONTACT:anmeldung@bildungswerk.at
X-EXTRAINFO:[preis='1500'][anmeldung='true']
DTSTAMP:20260423T082658
DTSTART:20210920T173000
DTEND:20210920T190000
SEQUENCE:0
TRANSP:OPAQUE
END:VEVENT
END:VCALENDAR