BEGIN:VCALENDAR
VERSION:2.0
PRODID:-//jEvents 2.0 for Joomla//EN
CALSCALE:GREGORIAN
METHOD:PUBLISH
BEGIN:VEVENT
UID:c95000111d09407758e1b8a6ab21c805
CATEGORIES:2. Bezirk
CREATED:20210913T112945
SUMMARY:Vortrag Wie Babys schlafen
LOCATION:EKiZ Kind&amp;Kegel\, Praterstrasse 14/8
DESCRIPTION:Entwicklung, Mythen &amp; Träume: Wie Babys schlafen [Vortrag]Vortrag zum T
 hema Gehirnentwicklung im Baby- und Kleinkindalter und Konsequenzen für den
  Baby- und Kleinkindschlaf. Warum schlafen Babys wie sie schlafen? Warum wa
 chen Babys auf? Was kann man tun um sein Baby gut in den und im Schlaf zu b
 egleiten.\n \n Leitung: Eva Dittinger, PhD\n Neurowissenschafterin, Mutter 
 und zertifizierte Baby- und Kinderschlafbegleiterin \n Termine:\n Freitag, 
 17.09.21, 1000 - 1200 Uhr,\n Donnerstag, 04.11.21, 1800 - 2000 Uhr\n Kosten
 : € 20,- pro Termin (€ 35,- für Paare), Anmeldung erforderlich!\n
X-ALT-DESC;FMTTYPE=text/html:<h2 class="unterstrich">Entwicklung, Mythen &amp; Träume: Wie Babys schlafe
 n [Vortrag]</h2><p>Vortrag zum Thema Gehirnentwicklung im Baby- und Kleinki
 ndalter und Konsequenzen für den Baby- und Kleinkindschlaf. Warum schlafen 
 Babys wie sie schlafen? Warum wachen Babys auf? Was kann man tun um sein Ba
 by gut in den und im Schlaf zu begleiten.<br /> <br /> <span class="fett">L
 eitung:</span> Eva Dittinger, PhD<br /> Neurowissenschafterin, Mutter und z
 ertifizierte Baby- und Kinderschlafbegleiterin <br /> <span class="fett">Te
 rmine</span>:<br /> Freitag, 17.09.21, 10<span class="kleinhoch">00</span> 
 - 12<span class="kleinhoch">00</span> Uhr,<br /> Donnerstag, 04.11.21, 18<s
 pan class="kleinhoch">00</span> - 20<span class="kleinhoch">00</span> Uhr<b
 r /> <span class="fett">Kosten</span>: € 20,- pro Termin (€ 35,- für Paare)
 , Anmeldung erforderlich!</p>
CONTACT:info@kind-und-kegel.at, 01 503 71 88, www.kind-und-kegel.at
X-EXTRAINFO:[preis='2000'][anmeldung='true']
DTSTAMP:20260423T094318
DTSTART:20210917T080000
DTEND:20210917T100000
SEQUENCE:0
TRANSP:OPAQUE
END:VEVENT
END:VCALENDAR