BEGIN:VCALENDAR
VERSION:2.0
PRODID:-//jEvents 2.0 for Joomla//EN
CALSCALE:GREGORIAN
METHOD:PUBLISH
BEGIN:VEVENT
UID:1846f78df537feb407d45632ce53b121
CATEGORIES:2. Bezirk
CREATED:20210913T120528
SUMMARY:Grenzen setzen - aber wie? [Workshop II]
LOCATION:EKiZ Kind&amp;Kegel\, 1020 Praterstraße 14/8
DESCRIPTION:Grenzen setzen - aber wie? [Workshop]Wann sind Grenzen notwendig? Wie gelin
 gt es mir, dass die Grenzen eingehalten werden? Was haben meine eigenen Erf
 ahrungen mit Grenzen als Kind damit zu tun?\n Diese Fragen und die der Teil
 nehmerInnen, werden wir gemeinsam an 2 Abenden besprechen.\n Als Methoden d
 ieses auf 2 Abende aufgeteilten Workshops setzen wir Theorie-Input, praktis
 che Übungen und Austausch ein.\nLeitung: Eva Schrems, MA, Montessori- und T
 heaterpädagogin, systemische Coach\n Termine: Dienstag,\n 16.11.21, 18:30 -
  20:30 Uhr, und 30.11.21, 18:30 - 20:30 Uhr\n Kosten: € 55,- (für beide Ter
 mine), Anmeldung erforderlich!\n
X-ALT-DESC;FMTTYPE=text/html:<h2 class="unterstrich">Grenzen setzen - aber wie? [Workshop]</h2><p>Wann s
 ind Grenzen notwendig? Wie gelingt es mir, dass die Grenzen eingehalten wer
 den? Was haben meine eigenen Erfahrungen mit Grenzen als Kind damit zu tun?
 <br /> Diese Fragen und die der TeilnehmerInnen, werden wir gemeinsam an 2 
 Abenden besprechen.<br /> Als Methoden dieses auf 2 Abende aufgeteilten Wor
 kshops setzen wir Theorie-Input, praktische Übungen und Austausch ein.</p><
 p><span class="fett">Leitung:</span> Eva Schrems, MA, Montessori- und Theat
 erpädagogin, systemische Coach<br /> <span class="fett">Termine:</span> Die
 nstag,<br /> 16.11.21, 18:<span class="kleinhoch">30</span> - 20:<span clas
 s="kleinhoch">30</span> Uhr, <strong>und </strong>30.11.21, 18:<span class=
 "kleinhoch">30</span> - 20:<span class="kleinhoch">30</span> Uhr<br /> <spa
 n class="fett">Kosten</span>: € 55,- (für beide Termine), Anmeldung erforde
 rlich!</p>
CONTACT:01 503 71 88, info@kind-und-kegel.at
X-EXTRAINFO:[preis='5500'][anmeldung='true']
DTSTAMP:20260423T094516
DTSTART:20211130T173000
DTEND:20211130T193000
SEQUENCE:0
TRANSP:OPAQUE
END:VEVENT
END:VCALENDAR