BEGIN:VCALENDAR
VERSION:2.0
PRODID:-//jEvents 2.0 for Joomla//EN
CALSCALE:GREGORIAN
METHOD:PUBLISH
BEGIN:VEVENT
UID:5807c510fdd6216824889044bac689c7
CATEGORIES:3. Bezirk
CREATED:20210913T225839
SUMMARY:Mama Cafe mit Hanna Lind - Coach für Mamas
LOCATION:Kinderspielcafe: Krieglergasse 6\, 1030 Wien
DESCRIPTION:Foto: Carmen Trappenberg Mama Cafe im KinderspielcafeAngeleitete Reflexion 
 im Bezug auf dein Mamasein und dein Leben im Einklang mit deinem Kind, Raum
  für gegenseitigen Austausch und Kennenlernen anderer Mamas\n \nWorum geht 
 es?\nIn den Mama Cafes geht es darum, dich mit anderen Mamas auszutauschen 
 und zwar auch jenseits von Windelinhalt und (Still)Mahlzeiten. Es geht um d
 ich und dein Mamasein, deine Herausforderungen und deine schönen und bestär
 kenden Momente. Der Austausch untereinander ist dabei ganz wichtig, denn du
 rch das Aussprechen hast du die Möglichkeit, dir deine Gedanken bewusst zu 
 machen und du wirst mit wertvollen Erkenntnissen beschenkt. Du merkst, dass
  jede Mama so ihre Herausforderungen hat und trittst damit aus der Bubble h
 eraus, dass es bei allen anderen Mamas doch sowieso meist perfekt läuft. Da
 für bieten wir in den Mama Cafes einen geschützten Rahmen und Hannas fachli
 che Begleitung, während dein Kind einfach mit dabei ist.\nDas gesamte Kinde
 rspiel steht während der Zeit des Mama Cafes zur Verfügung und dein Kind ka
 nn frei mit den tollen Spielsachen spielen\n \nPreis pro Mama Cafe\n\n35,00
 € inkl. Spielbeitrag und einen Kaffee oder Tee\nFür deine erste Teilnahme k
 annst du einen einmaligen Kennenlernrabatt von 9,00€ erhalten.\nWeitere Get
 ränke und Speisen können gerne konsumiert werden.\nMehr Infos über das Kind
 erspielcafe findest du unter www.kinderspiel.cafe (http://www.kinderspiel.c
 afe)\n \nAnmeldung und Buchung\nPer Mail an mail@hannalind.at (mailto:mail@
 hannalind.at) oder über www.hannalind.at/events (http://www.hannalind.at/ev
 ents)\nEs gelten die aktuellen Corona Bestimmungen.\n \nWir, Leo vom Kinder
 spielcafe und ich, finden diese Art von Austausch sehr wichtig und freuen u
 ns sehr auf eure Teilnahme am Mama-Café\n \nUnd vergesst nie: ihr seid nich
 t allein und YOU ARE MOMAZING!\n
X-ALT-DESC;FMTTYPE=text/html:<div class="mec-event-content"><figure><figcaption>Foto: Carmen Trappenberg
 </figcaption></figure><h1 class="mec-single-title"> </h1><h1 class="mec-sin
 gle-title"><strong>Mama Cafe im Kinderspielcafe</strong></h1><p class="mec-
 single-title"><strong><i>Angeleitete Reflexion im Bezug auf dein Mamasein u
 nd dein Leben im Einklang mit deinem Kind, Raum für gegenseitigen Austausch
  und Kennenlernen anderer Mamas</i></strong></p><div class="mec-single-even
 t-description mec-events-content"><p> </p><p><strong>Worum geht es?</strong
 ></p><p>In den Mama Cafes geht es darum, dich mit anderen Mamas auszutausch
 en und zwar auch jenseits von Windelinhalt und (Still)Mahlzeiten. Es geht u
 m dich und dein Mamasein, deine Herausforderungen und deine schönen und bes
 tärkenden Momente. Der Austausch untereinander ist dabei ganz wichtig, denn
  durch das Aussprechen hast du die Möglichkeit, dir deine Gedanken bewusst 
 zu machen und du wirst mit wertvollen Erkenntnissen beschenkt. Du merkst, d
 ass jede Mama so ihre Herausforderungen hat und trittst damit aus der Bubbl
 e heraus, dass es bei allen anderen Mamas doch sowieso meist perfekt läuft.
  Dafür bieten wir in den Mama Cafes einen geschützten Rahmen und Hannas fac
 hliche Begleitung, während dein Kind einfach mit dabei ist.</p><p>Das gesam
 te Kinderspiel steht während der Zeit des Mama Cafes zur Verfügung und dein
  Kind kann frei mit den tollen Spielsachen spielen</p><p> </p><p><strong>Pr
 eis pro Mama Cafe<br /></strong></p><p>35,00€ inkl. Spielbeitrag und einen 
 Kaffee oder Tee</p><p>Für deine erste Teilnahme kannst du einen einmaligen 
 Kennenlernrabatt von 9,00€ erhalten.</p><p>Weitere Getränke und Speisen kön
 nen gerne konsumiert werden.</p><p>Mehr Infos über das Kinderspielcafe find
 est du unter <a href="http://www.kinderspiel.cafe">www.kinderspiel.cafe</a>
 </p><p> </p><p><strong>Anmeldung und Buchung</strong></p><p>Per Mail an <a 
 href="mailto:mail@hannalind.at">mail@hannalind.at</a> oder über <a href="ht
 tp://www.hannalind.at/events">www.hannalind.at/events</a></p><p>Es gelten d
 ie aktuellen Corona Bestimmungen.</p><p> </p><p><em><strong>Wir, Leo vom Ki
 nderspielcafe und ich, finden diese Art von Austausch sehr wichtig und freu
 en uns sehr auf eure Teilnahme am Mama-Café</strong></em></p><p> </p><p><em
 ><strong>Und vergesst nie: ihr seid nicht allein und </strong></em><em><str
 ong>YOU ARE MOMAZING!</strong></em></p></div></div>
CONTACT:Hanna Lind: mail@hannalind.at, www.hannalind.at
X-EXTRAINFO:[preis='3500'][anmeldung='true']
DTSTAMP:20260423T094528
DTSTART:20210928T070000
DTEND:20210928T090000
SEQUENCE:0
TRANSP:OPAQUE
END:VEVENT
END:VCALENDAR