BEGIN:VCALENDAR
VERSION:2.0
PRODID:-//jEvents 2.0 for Joomla//EN
CALSCALE:GREGORIAN
METHOD:PUBLISH
BEGIN:VEVENT
UID:3ee0cba1f17e4d2aea8c3a3e7c3aa46e
CATEGORIES:15. Bezirk
CREATED:20210917T112020
SUMMARY:KREISTÄNZE FÜR FRAUEN UND KINDER (ab 6 Jahren)
LOCATION:KINDER ATELIER WIEN
DESCRIPTION:<h3>FRAUEN TANZ KREIS – KREISTÄNZE FÜR FRAUEN UND KINDER</h3><div class="ga
 p" style="height: 10px;"> </div><p>Für Kinder ab 6 Jahren gibt es die Mögli
 chkeit, gemeinsam mit ihren Müttern im Frauenraum zu tanzen.</p><div class=
 "gap" style="height: 10px;"> </div><p>…in der Gruppe um eine gemeinsame Mit
 te tanzen, zu fröhlichen und mitreißenden Rhythmen in Schwung kommen, in Re
 ihen und Schlangen den Raum erobern, Tänze aus anderen Ländern oder aus län
 gst vergangenen Zeiten kennen lernen, bei meditativen Klängen zur Ruhe komm
 en,</p><p>…es geht um Spaß am Tanzen, nicht um perfekte Schritte.</p><div c
 lass="gap" style="height: 10px;"> </div><p>Sonntagabend, 17‘30 bis 19 Uhr,<
 br /> Kosten: 13 Euro pro Abend,  5 Euro für Kinder pro Abend<br /> Veranst
 altungsort: Neubaugürtel 7, 1150 Wien</p><p><strong><span style="color: #f0
 001b;">Termine:</span> 12. September,3. Oktober, 7. November, 5. Dezember 2
 020 und 16. Jänner 2021.</strong><br /> KEINE VORKENNTNISSE NÖTIG!</p><p> <
 /p><p>KINDER ATELIER WIEN<br />Neubaugürtel 7<br />A - 1150 Wien</p><p>www.
 kinderatelier.at</p>
CONTACT:www.kinderatelier.at
X-EXTRAINFO:[preis='1800'][anmeldung='true']
DTSTAMP:20260423T111652
DTSTART:20211003T153000
DTEND:20211003T170000
SEQUENCE:0
TRANSP:OPAQUE
END:VEVENT
END:VCALENDAR