BEGIN:VCALENDAR
VERSION:2.0
PRODID:-//jEvents 2.0 for Joomla//EN
CALSCALE:GREGORIAN
METHOD:PUBLISH
BEGIN:VEVENT
UID:dfe4361d99a98427413823bc67ceb6e0
CATEGORIES:15. Bezirk
CREATED:20210917T113251
SUMMARY:KREISTÄNZE FÜR FRAUEN UND KINDER (ab 6 Jahren)
LOCATION:KINDER ATELIER WIEN
DESCRIPTION:<div class="eventContent"><h3>FRAUEN TANZ KREIS – KREISTÄNZE FÜR FRAUEN UND
  KINDER</h3><div class="gap" style="height: 10px;"> </div><p>Für Kinder ab 
 6 Jahren gibt es die Möglichkeit, gemeinsam mit ihren Müttern im Frauenraum
  zu tanzen.</p><div class="gap" style="height: 10px;"> </div><p>…in der Gru
 ppe um eine gemeinsame Mitte tanzen, zu fröhlichen und mitreißenden Rhythme
 n in Schwung kommen, in Reihen und Schlangen den Raum erobern, Tänze aus an
 deren Ländern oder aus längst vergangenen Zeiten kennen lernen, bei meditat
 iven Klängen zur Ruhe kommen,</p><p>…es geht um Spaß am Tanzen, nicht um pe
 rfekte Schritte.</p><div class="gap" style="height: 10px;"> </div><p>Sonnta
 gabend, 17‘30 bis 19 Uhr,<br /> Kosten: 13 Euro pro Abend,  5 Euro für Kind
 er pro Abend<br /> Veranstaltungsort: Neubaugürtel 7, 1150 Wien</p><p><stro
 ng><span style="color: #f0001b;">Termine:</span> 12. September,3. Oktober, 
 7. November, 5. Dezember und 16. Jänner 2022.</strong><br /> KEINE VORKENNT
 NISSE NÖTIG!</p><p>KINDER ATELIER WIEN<br />Neubaugürtel 7<br />A - 1150 Wi
 en</p><p>www.kinderatelier.at</p></div>
CONTACT:www.kinderatelier.at
X-EXTRAINFO:[preis='1800'][anmeldung='true']
DTSTAMP:20260423T123543
DTSTART:20220116T163000
DTEND:20220116T180000
SEQUENCE:0
TRANSP:OPAQUE
END:VEVENT
END:VCALENDAR