BEGIN:VCALENDAR
VERSION:2.0
PRODID:-//jEvents 2.0 for Joomla//EN
CALSCALE:GREGORIAN
METHOD:PUBLISH
BEGIN:VEVENT
UID:1452b3a778c82aa76efe4dd66a0deba2
CATEGORIES:14. Bezirk
CREATED:19700101T010000
SUMMARY:Zero Waste im Putzschrank - Natürliche Reinigungsmittel selber machen
LOCATION:Online
DESCRIPTION:Putzmittel für den kompletten Haushalt lassen sich mit wenigen Zutaten und 
 in kürzester Zeit ganz einfach selber machen. In diesem Onlinekurs zeige ic
 h dir 8 Rezepte für umweltfreundliche Reinigungsmittel.\n \nInfos und Anmel
 dung unter: https://www.katharinaruehrt.com/event-details/putzschrank\n
X-ALT-DESC;FMTTYPE=text/html:<p>Putzmittel für den kompletten Haushalt lassen sich mit wenigen Zutaten u
 nd in kürzester Zeit ganz einfach selber machen. In diesem Onlinekurs zeige
  ich dir 8 Rezepte für umweltfreundliche Reinigungsmittel.</p><p> </p><p>In
 fos und Anmeldung unter: https://www.katharinaruehrt.com/event-details/putz
 schrank</p>
CONTACT:katharina.kohlbach@gmail.com
X-EXTRAINFO:[preis='000'][anmeldung='true']
DTSTAMP:20260423T094320
DTSTART:20211014T180000
DTEND:20211014T200000
SEQUENCE:0
TRANSP:OPAQUE
END:VEVENT
END:VCALENDAR