BEGIN:VCALENDAR
VERSION:2.0
PRODID:-//jEvents 2.0 for Joomla//EN
CALSCALE:GREGORIAN
METHOD:PUBLISH
BEGIN:VEVENT
UID:1081f29bdc9554a128cdf2090ae51266
CATEGORIES:8. Bezirk
CREATED:20211011T170058
SUMMARY:SpielRaum II nach Emmi Pikler im EKIZ Wien
LOCATION:EKIZ Wien\, Piaristengasse 32\, 1080 Wien
DESCRIPTION:<p><span style="text-decoration: underline;"><strong>SpielRaum nach Emmi Pi
 kler<br /></strong></span></p><p style="caret-color: #000000; color: #00000
 0;"><span style="color: #333333;">mit Mag.a Veronika Leeb</span></p><p styl
 e="caret-color: #000000; color: #000000;"><span style="color: #333333;">Der
  <em>SpielRaum</em> bietet Eltern die Möglichkeit, ihr Kind beim freien Spi
 elen und Bewegen zu beobachten und so die Kompetenzen ihres Kindes bewusste
 r wahrzunehmen. Die SpielRaum-Leiterin begleitet die Kinder durch ihre aufm
 erksame Anwesenheit und sorgt für eine sichere, vertrauensvolle Atmosphäre.
 <br /> Für die Kinder ist eine altersgerechte Umgebung mit vielfältigem Spi
 elmaterial und Krabbel- und Klettergeräten für eigenständiges Forschen und 
 Ausprobieren vorbereitet.</span></p><p style="caret-color: #000000; color: 
 #000000;"><span style="color: #333333;">Für einen vertiefenden Austausch gi
 bt es pro Kurs 2 bis 3 <em>ElternRäume</em> (Gesprächabende ohne Kinder), d
 ie in der Kursgebühr inkludiert sind. Hier werden Erlebnisse und Fragen, di
 e sich aus dem Besuch des SpielRaums entwickeln, sowie Themen aus dem Famil
 ienalltag reflektiert.</span></p><p style="caret-color: #000000; color: #00
 0000;"> </p><p style="caret-color: #000000; color: #000000;"><span style="c
 olor: #333333;">SpielRaum nach Emmi Pikler für<strong style="margin: 0px; p
 adding: 0px; border: 0px; font-family: inherit; font-size: inherit; font-st
 yle: inherit; font-variant-caps: inherit; font-stretch: inherit; line-heigh
 t: inherit; vertical-align: baseline; outline: none;"> ca. 9 - 16 Monate</s
 trong> alte Babys mit Begleitperson<br /><strong><br /> 10 Termine, Mittwoc
 hs von 16.00 - 17.15 Uhr<br /><br /> Termine: </strong>12.1., 19.1., 26.1.,
  2.2., 16.2., 23.2., 2.3., 9.3., 16.3. und 23.3.2022<strong><br /> Ersatzte
 rmin: </strong>30.3.<strong><br /><br /> 3 ElternRäume: </strong>Termine fo
 lgen</span></p><p style="caret-color: #000000; color: #000000;"> </p><p sty
 le="caret-color: #000000; color: #000000;"><span style="color: #333333;"><s
 trong>Kurskosten:</strong> € 273,-<br /> (für 10 Einheiten und 3 ElternRäum
 e)<br /></span></p>
CONTACT:https://www.elternkindzentrum.com/kurse/kurse-mit-babys/126/spielraum2-nach-e-pikler.html
X-EXTRAINFO:[preis='27300'][anmeldung='true']
DTSTAMP:20260423T082618
DTSTART:20220112T150000
DTEND:20220112T161500
SEQUENCE:0
TRANSP:OPAQUE
END:VEVENT
END:VCALENDAR