BEGIN:VCALENDAR
VERSION:2.0
PRODID:-//jEvents 2.0 for Joomla//EN
CALSCALE:GREGORIAN
METHOD:PUBLISH
BEGIN:VEVENT
UID:e0878ec617d3471877a5d5f56caac5ab
CATEGORIES:18. Bezirk
CREATED:19700101T010000
SUMMARY:MamaWorkout - BeBo Training & Fitness für Mamis
LOCATION:Spielringel\, Mollgasse 11-13\, 1180 Wien
DESCRIPTION:Du möchtest etwas für deine Fitness und dein Wohlbefinden tun und dein Baby
  soll mit dabei sein? Dann ist MamaWORKOUT genau das Richtige für dich! Das
  MamaWORKOUT Konzept umfasst sowohl Rückbildungals auch ganzheitliches Fitn
 esstraining, angepasst an die veränderten körperlichen Bedingen von Müttern
  im ersten Babyjahr. Dein Baby wird dabei liebevoll in die Übungen integrie
 rt, spielt, turnt oder kuschelt mit!\nBei Schönwetter findet der Kurs auf W
 unsch im angrenzenden Währinger Park statt. Dein Baby ist im Kinderwagen od
 er in der Trage mit dabei!\nKursstart: Montag, 8. November 2021\n \nTermine
 : 8.11. I 22.11. I 29.11. I 6.12. I 13.12. \nKosten Kursreihe: 75,- Euro\nK
 osten Einzeleinheit: 17,- Euro \nAnmeldung unter eva.derdak@gmx.at (mailto:
 eva.derdak@gmx.at)\nEs gilt die 3-G-Regel.\nMehr Infos: https://www.fit-mit
 -eva.at (https://www.fit-mit-eva.at)\nWebsite Spielringel: https://spielrin
 gel.at (https://spielringel.at)\n
X-ALT-DESC;FMTTYPE=text/html:<p>Du möchtest etwas für deine Fitness und dein Wohlbefinden tun und dein B
 aby soll mit dabei sein? Dann ist MamaWORKOUT genau das Richtige für dich! 
 Das MamaWORKOUT Konzept umfasst sowohl <strong>Rückbildung</strong>als auch
  <strong>ganzheitliches Fitnesstraining</strong>, angepasst an die veränder
 ten körperlichen Bedingen von Müttern im ersten Babyjahr. Dein Baby wird da
 bei liebevoll in die Übungen integriert, spielt, turnt oder kuschelt mit!</
 p><p>Bei Schönwetter findet der Kurs auf Wunsch im angrenzenden Währinger P
 ark statt. Dein Baby ist im Kinderwagen oder in der Trage mit dabei!</p><p>
 Kursstart: <strong>Montag, 8. November 2021</strong></p><p> </p><p>Termine:
  8.11. <strong>I</strong> 22.11. <strong>I</strong> 29.11. <strong>I</stron
 g> 6.12. <strong>I</strong> 13.12. </p><p>Kosten Kursreihe: 75,- Euro</p><p
 >Kosten Einzeleinheit: 17,- Euro </p><p>Anmeldung unter <a title="eva.derda
 k@gmx.at" href="mailto:eva.derdak@gmx.at">eva.derdak@gmx.at</a></p><p>Es gi
 lt die <strong>3-G-Regel</strong>.</p><p>Mehr Infos: <a href="https://www.f
 it-mit-eva.at">https://www.fit-mit-eva.at</a></p><p>Website Spielringel: <a
  href="https://spielringel.at">https://spielringel.at</a></p>
CONTACT:eva.derdak@gmx.at
X-EXTRAINFO:[preis='1700'][anmeldung='true']
DTSTAMP:20260423T094514
DTSTART:20211108T083000
DTEND:20211108T093000
SEQUENCE:0
RRULE:FREQ=WEEKLY;COUNT=6;INTERVAL=1;BYDAY=MO,MO,MO,MO,MO
TRANSP:OPAQUE
END:VEVENT
END:VCALENDAR