BEGIN:VCALENDAR
VERSION:2.0
PRODID:-//jEvents 2.0 for Joomla//EN
CALSCALE:GREGORIAN
METHOD:PUBLISH
BEGIN:VEVENT
UID:b81849aff5b9f1611a30cc36b2764ae7
CATEGORIES:6. Bezirk
CREATED:20211019T104220
SUMMARY:Familien-Atelier
LOCATION:6.\, Sandwirtgasse 13/12
DESCRIPTION:Im Biolino Familien-Atelier können große und kleine Künstlerinnen und Künst
 ler nach Herzenslust mit unseren selbst hergestellten Bio-Farben matschen u
 nd gatschen, ohne dass Mama oder Papa nachher aufräumen müssen. Kommt gerne
  als Familie bei uns vorbei und verbringt einen kunterbunten Vormittag bei 
 uns. Was erwartet dich?\nEs wird klebrig, matschig, bröselig, kratzig: Sand
 , Erde, Getreidekörner, Holz und viele andere haptische Anregungen warten a
 uf experimentierfreudige Entdecker*innen. Die Kinder können nach Herzenslus
 t die Bio-Farben mischenund Materialien erforschen und dabei mit allen Sinn
 en erleben, wie sie ihre Eigenschaften verändern. Am Ende gibt es für die K
 leinen ein wohlig warmes Bad.Für Kinder vom Sitzalter bis 3,5 Jahre.\nSo., 
 07.11.2021\njeweils 10.00 - 12.00 UhrKosten: € 39,- für die ganze Familie\n
 (1 Elternteil und ihre Kinder\nInkl. biologischer Jause) Kleine Gruppe mit 
 wenig Plätzen - daher rasche Anmeldung.Unter Einhaltung aller Hygienemaßnah
 men. Zur Anmeldung geht`s hier:\nhttps://www.biolino.at/familien-atelier/ (
 https://www.biolino.at/familien-atelier/?fbclid=IwAR1Rh9Yp-GRE-WB1QCI5mEjVk
 PBkQUUIottJY5Gxp8OEL07UnCDJx74ejJg) \nIch freue mich auf euch!\nMartina\n
X-ALT-DESC;FMTTYPE=text/html:<div class="kvgmc6g5 cxmmr5t8 oygrvhab hcukyx3x c1et5uql">Im Biolino Famili
 en-Atelier können große und kleine Künstlerinnen und Künstler nach Herzensl
 ust mit unseren selbst hergestellten Bio-Farben matschen und gatschen, ohne
  dass Mama oder Papa nachher aufräumen müssen. Kommt gerne als Familie bei 
 uns vorbei und verbringt einen kunterbunten Vormittag bei uns.</div><div cl
 ass="kvgmc6g5 cxmmr5t8 oygrvhab hcukyx3x c1et5uql"> </div><div class="o9v6f
 nle cxmmr5t8 oygrvhab hcukyx3x c1et5uql">Was erwartet dich?<br />Es wird kl
 ebrig, matschig, bröselig, kratzig: Sand, Erde, Getreidekörner, Holz und vi
 ele andere haptische Anregungen warten auf experimentierfreudige Entdecker*
 innen. Die Kinder können nach Herzenslust die Bio-Farben mischenund Materia
 lien erforschen und dabei mit allen Sinnen erleben, wie sie ihre Eigenschaf
 ten verändern.</div><div class="o9v6fnle cxmmr5t8 oygrvhab hcukyx3x c1et5uq
 l"> </div><div class="o9v6fnle cxmmr5t8 oygrvhab hcukyx3x c1et5uql">Am Ende
  gibt es für die Kleinen ein wohlig warmes Bad.</div><div class="o9v6fnle c
 xmmr5t8 oygrvhab hcukyx3x c1et5uql">Für Kinder vom Sitzalter bis 3,5 Jahre.
 </div><div class="o9v6fnle cxmmr5t8 oygrvhab hcukyx3x c1et5uql"><br />So., 
 07.11.2021<br />jeweils 10.00 - 12.00 Uhr</div><div class="o9v6fnle cxmmr5t
 8 oygrvhab hcukyx3x c1et5uql">Kosten: € 39,- für die ganze Familie<br />(1 
 Elternteil und ihre Kinder<br />Inkl. biologischer Jause)</div><div class="
 o9v6fnle cxmmr5t8 oygrvhab hcukyx3x c1et5uql"> </div><div class="o9v6fnle c
 xmmr5t8 oygrvhab hcukyx3x c1et5uql">Kleine Gruppe mit wenig Plätzen - daher
  rasche Anmeldung.</div><div class="o9v6fnle cxmmr5t8 oygrvhab hcukyx3x c1e
 t5uql">Unter Einhaltung aller Hygienemaßnahmen.</div><div class="o9v6fnle c
 xmmr5t8 oygrvhab hcukyx3x c1et5uql"> </div><div class="o9v6fnle cxmmr5t8 oy
 grvhab hcukyx3x c1et5uql">Zur Anmeldung geht`s hier:<br /><a class="oajrlxb
 2 g5ia77u1 qu0x051f esr5mh6w e9989ue4 r7d6kgcz rq0escxv nhd2j8a9 nc684nl6 p
 7hjln8o kvgmc6g5 cxmmr5t8 oygrvhab hcukyx3x jb3vyjys rz4wbd8a qt6c0cv9 a8ny
 wdso i1ao9s8h esuyzwwr f1sip0of lzcic4wl py34i1dx gpro0wi8" tabindex="0" hr
 ef="https://www.biolino.at/familien-atelier/?fbclid=IwAR1Rh9Yp-GRE-WB1QCI5m
 EjVkPBkQUUIottJY5Gxp8OEL07UnCDJx74ejJg" target="_blank" rel="nofollow noope
 ner noreferrer">https://www.biolino.at/familien-atelier/</a></div><p> </p><
 p>Ich freue mich auf euch!</p><p>Martina</p>
CONTACT:067762829270, martina.novak@biolino.at
X-EXTRAINFO:[preis='3900'][anmeldung='true']
DTSTAMP:20260423T081752
DTSTART:20211107T090000
DTEND:20211107T110000
SEQUENCE:0
TRANSP:OPAQUE
END:VEVENT
END:VCALENDAR