BEGIN:VCALENDAR
VERSION:2.0
PRODID:-//jEvents 2.0 for Joomla//EN
CALSCALE:GREGORIAN
METHOD:PUBLISH
BEGIN:VEVENT
UID:face6efa5f775fc0969d122c2a14684f
CATEGORIES:6. Bezirk
CREATED:20211019T104846
SUMMARY:Halloween-Baby-Cafe
LOCATION:6.\, Sandwirtgasse 13/12
DESCRIPTION:<p>Halloween-Bayby-Cafe</p><p>Wir machen uns ein gemütliches Baby-Cafe unte
 r dem Motto "Halloween". Dich erwartet ein gruselig geschmücktes Institut, 
 einen Halloweengugelhupf, eine HalloweenBowle und unheimliche Musik.</p><p>
 Konme gerne verkleidet und bekomme in Goodie Bag als Dankeschön!</p><p> </p
 ><p><strong>Uhrzeit</strong>: 9.00 - 12.00 Uhr</p><p><strong>Wo</strong>: B
 iolino Institut, Sandwirtgasse 13, 1060 Wien</p><p><strong>Kosten</strong>:
  € 10,- Eintritt inkl. Bio-Kaffee (oder Bio-Tee, Bio-Kakao, Bio-Saft) und B
 io-Gugelhupf (oder Bio-Obst) und Spielebeitrag Nur Barzahlung!</p><p>Bitte 
 beachte die 2,5G Regel! Alle Infos dazu findest du bei <a href="https://www
 .biolino.at/home/hygienemaßnahmen/">Hygienemaßnahmen</a>.</p><p>Es gibt Pla
 tz für <strong>6-8 Kinderwägen</strong>. Bei gutem Wetter kannst du auch im
  geschützten Innenhof parken. Wenn es dir möglich ist, komm gerne mit deine
 r Tragehilfe - so haben wir alle mehr Platz zum Wohlfühlen.</p><h4><strong>
 NUR MIT ANMELDUNG!!</strong></h4><p><a href="mailto:Martina.novak@biolino.a
 t">Martina.novak@biolino.at</a></p><p> </p><p>Schau vorbei zum Spielen und 
 Plaudern.</p><p>Ich freue mich auf dich!</p><p>Alles Liebe,</p><p>Martina</
 p>
CONTACT:martina.novak@biolino.at
X-EXTRAINFO:[preis='1000'][anmeldung='true']
DTSTAMP:20260423T095934
DTSTART:20211029T070000
DTEND:20211029T100000
SEQUENCE:0
TRANSP:OPAQUE
END:VEVENT
END:VCALENDAR