BEGIN:VCALENDAR
VERSION:2.0
PRODID:-//jEvents 2.0 for Joomla//EN
CALSCALE:GREGORIAN
METHOD:PUBLISH
BEGIN:VEVENT
UID:f3762b95a54639c94d8e6d1bf1f5de49
CATEGORIES:1. Bezirk
CREATED:20211022T105645
SUMMARY:NETWORKING TO GO
LOCATION:Burggarten\, Wien
DESCRIPTION:Unser Netzwerken im Park kam bei euch im Sommer so gut an, weshalb wir mit 
 Beginn der kühleren Jahreszeit einfach ein NETWORKING TO GO draus machen!\n
 Wie immer wollen wir etwas Zeit miteinander verbringen, diesmal schon vor d
 er Mittagspause, da essen und spazieren nicht immer so einfach ist – deine 
 Kinder sind auch herzlich Willkommen ?\nGeplant ist ein Spaziergang Rund um
  den Burgring. Wir starten im Burggarten an der Mozartstatue und spazieren 
 dann entspannt ca. 90 Minuten am Ring lang – eine ganze Runde. Je nachdem, 
 wie viele Teilnehmerinnen es geben wird, habe ich mir überlegt, dass wir un
 sere Gesprächspartnerinnen alle 7 bis 10 Minuten wechseln, damit am Ende je
 de mal mit jeder gesprochen hat ?\nBitte mitbringen:\n– natürlich gute Laun
 e ?\n– wenn du magst, etwas zu trinken\n– bequeme Schuhe\n– und gerne auch 
 dein Promo- und Werbematerial\nDas „Netzwerken to Go“ ist für dich kostenlo
 s, bitte melde dich aber trotzdem per Ticketlink an (https://www.businessmo
 ms.at/events/networking-to-go/)\nWichtige Infos:\n– Genaue Location: im Bur
 ggarten vor der Mozartstatue!\n– Findet nur bei trockenem Wetter statt (bei
  ganz miserablem Wetter bekommst du einen Link von mir zum Online-Netzwerke
 n)\n– bitte beachte die 3G-Regel, obwohl wir draußen sind, ist mir deine Si
 cherheit sehr wichtig.\nIch freu mich auf dein Kommen!\n
X-ALT-DESC;FMTTYPE=text/html:<p>Unser Netzwerken im Park kam bei euch im Sommer so gut an, weshalb wir m
 it Beginn der kühleren Jahreszeit einfach ein NETWORKING TO GO draus machen
 !</p><p>Wie immer wollen wir etwas Zeit miteinander verbringen, diesmal sch
 on vor der Mittagspause, da essen und spazieren nicht immer so einfach ist 
 – deine Kinder sind auch herzlich Willkommen ?<br />Geplant ist ein Spazier
 gang Rund um den Burgring. Wir starten im Burggarten an der Mozartstatue un
 d spazieren dann entspannt ca. 90 Minuten am Ring lang – eine ganze Runde. 
 Je nachdem, wie viele Teilnehmerinnen es geben wird, habe ich mir überlegt,
  dass wir unsere Gesprächspartnerinnen alle 7 bis 10 Minuten wechseln, dami
 t am Ende jede mal mit jeder gesprochen hat ?</p><p>Bitte mitbringen:<br />
 – natürlich gute Laune ?<br />– wenn du magst, etwas zu trinken<br />– bequ
 eme Schuhe<br />– und gerne auch dein Promo- und Werbematerial</p><p>Das „N
 etzwerken to Go“ ist für dich kostenlos, bitte melde dich aber trotzdem per
  Ticketlink an (https://www.businessmoms.at/events/networking-to-go/)</p><p
 >Wichtige Infos:<br />– Genaue Location: im Burggarten vor der Mozartstatue
 !<br />– Findet nur bei trockenem Wetter statt (bei ganz miserablem Wetter 
 bekommst du einen Link von mir zum Online-Netzwerken)<br />– bitte beachte 
 die 3G-Regel, obwohl wir draußen sind, ist mir deine Sicherheit sehr wichti
 g.</p><p>Ich freu mich auf dein Kommen!</p>
CONTACT:https://www.businessmoms.at/events/networking-to-go/
X-EXTRAINFO:[preis='000'][anmeldung='true']
DTSTAMP:20260423T094305
DTSTART:20211126T100000
DTEND:20211126T113000
SEQUENCE:0
TRANSP:OPAQUE
END:VEVENT
END:VCALENDAR