BEGIN:VCALENDAR
VERSION:2.0
PRODID:-//jEvents 2.0 for Joomla//EN
CALSCALE:GREGORIAN
METHOD:PUBLISH
BEGIN:VEVENT
UID:76c4035d1385fc947579952e4d3e16a9
CATEGORIES:6. Bezirk
CREATED:20211028T112230
SUMMARY:kostenlose Gesprächsrunde mit den Autorinnen Annika Rösler & Evelyn Höllrigl Tschaikner „Nachwehen - eine ehrliche Gesprächsrunde über alle Geburtsgefühle"
LOCATION:6.\, Sandwirtgasse 13/12
DESCRIPTION:Gesprächsrunde mit den Autorinnen Annika Rösler &amp; Evelyn Höllrigl Tscha
 ikner des Buches „Nachwehen - Trost und Hilfe bei überwältigenden Gefühlen 
 rund um die Geburt“ \nSchwangerschaft, Geburt und Wochenbett – in kaum eine
 r Lebensphase sind Frauen so verletzlich, wie wenn sie Mutter werden.\nZwis
 chen positivem Test und der Ankunft des Babys liegt viel Schönes, aber auch
  viel Überwältigendes. Und manchmal sogar Schrecken und Wut.\nDoch wann und
  wie sprechen wir darüber?\n \nAm Montag, 15. November wollen die Autorinne
 n des Buches „Nachwehen – Trost und Hilfe bei überwältigenden Gefühlen rund
  um die Geburt“ genau das tun.\n \nIn einer gemütlichen Runde im Biolino In
 stitut in der Sandwirtgasse beantworten die beiden Fragen wie diese:\n- War
 um fällt es uns so schwer, überwältigende Gefühle rund um die Geburt anzusp
 rechen?\n- Was würde Frauen ganz konkret helfen, um sich besser zu fühlen?\
 n- Was geschieht, wenn gute Hoffnung auf Vorsorgeuntersuchungen, Ärzt*innen
  und Klinikatmosphäre trifft?\n- Wie können wir auch längere Zeit nach der 
 Geburt noch Frieden schließen mit dem, was passiert ist?\nDie beiden sind M
 ütter von insgesamt sechs Kindern und haben gelernt, selbstbewusst über ihr
 e Erfahrungen zu sprechen – kraftvoll, informativ und mit bestärkendem Humo
 r!\nInformationen zum Buch und den Autorinnen: https://bit.ly/2ZA7cvD\n \nW
 ann: Montag, 15. November\nUhrzeit: 15.00 – 16.30 Uhr\nKostenlos!\ninkl. Ka
 ffee und kleinen Snacks\n \nUnbedingt anmelden, da limitierte Platzanzahl!\
 nMartina.novak@biolino.at\n \nOrt: Biolino Institut\nSandwirtgasse 13/12, 1
 060 Wien\n
X-ALT-DESC;FMTTYPE=text/html:<h2>Gesprächsrunde mit den Autorinnen Annika Rösler &amp; Evelyn Höllrigl T
 schaikner des Buches „Nachwehen - Trost und Hilfe bei überwältigenden Gefüh
 len rund um die Geburt“</h2><p> </p><p>Schwangerschaft, Geburt und Wochenbe
 tt – in kaum einer Lebensphase sind Frauen so verletzlich, wie wenn sie Mut
 ter werden.</p><p>Zwischen positivem Test und der Ankunft des Babys liegt v
 iel Schönes, aber auch viel Überwältigendes. Und manchmal sogar Schrecken u
 nd Wut.</p><p>Doch wann und wie sprechen wir darüber?</p><p> </p><p>Am Mont
 ag, 15. November wollen die Autorinnen des Buches „Nachwehen – Trost und Hi
 lfe bei überwältigenden Gefühlen rund um die Geburt“ genau das tun.</p><p> 
 </p><p>In einer gemütlichen Runde im Biolino Institut in der Sandwirtgasse 
 beantworten die beiden Fragen wie diese:</p><p>- Warum fällt es uns so schw
 er, überwältigende Gefühle rund um die Geburt anzusprechen?</p><p>- Was wür
 de Frauen ganz konkret helfen, um sich besser zu fühlen?</p><p>- Was geschi
 eht, wenn gute Hoffnung auf Vorsorgeuntersuchungen, Ärzt*innen und Klinikat
 mosphäre trifft?</p><p>- Wie können wir auch längere Zeit nach der Geburt n
 och Frieden schließen mit dem, was passiert ist?</p><p>Die beiden sind Mütt
 er von insgesamt sechs Kindern und haben gelernt, selbstbewusst über ihre E
 rfahrungen zu sprechen – kraftvoll, informativ und mit bestärkendem Humor!<
 /p><p>Informationen zum Buch und den Autorinnen: https://bit.ly/2ZA7cvD</p>
 <p> </p><p>Wann: Montag, 15. November</p><p>Uhrzeit: 15.00 – 16.30 Uhr</p><
 p>Kostenlos!</p><p>inkl. Kaffee und kleinen Snacks</p><p> </p><p>Unbedingt 
 anmelden, da limitierte Platzanzahl!</p><p>Martina.novak@biolino.at</p><p> 
 </p><p>Ort: Biolino Institut</p><p>Sandwirtgasse 13/12, 1060 Wien</p>
CONTACT:martina.novak@biolino.at, 067762892970
X-EXTRAINFO:[preis='000'][anmeldung='true']
DTSTAMP:20260423T094510
DTSTART:20211115T140000
DTEND:20211115T153000
SEQUENCE:0
TRANSP:OPAQUE
END:VEVENT
END:VCALENDAR