BEGIN:VCALENDAR
VERSION:2.0
PRODID:-//jEvents 2.0 for Joomla//EN
CALSCALE:GREGORIAN
METHOD:PUBLISH
BEGIN:VEVENT
UID:df658d148ba4ba8017b099bd60ad2029
CATEGORIES:9. Bezirk
CREATED:19700101T010000
SUMMARY:Elfentanz
LOCATION:DoDo Academy\, Spittelauer Platz 6\, 1090 Wien
DESCRIPTION:<p>"Erlebe wie deine Elfe zur Musik hüpft und stampft während sie vergnügt 
 die Welt des Tanzes und der Bewegung entdeckt."<br /><br />Du suchst einen 
 Tanzkurs für dein Kind ab 3 Jahren? Dann bist du bei uns genau richtig. Mit
  viel Phantasie und Spaß an der Sache lernen wir lustige Bewegungen, Tänze 
 und Rhythmen kennen. Wir fliegen wie Vögel, stampfen wie Elefanten und schl
 eichen wie kleine Mäuse.</p><p> </p><p><a href="https://www.dodo-irishdance
 .at/tanzvorbereitung">https://www.dodo-irishdance.at/tanzvorbereitung</a></
 p><figure><figcaption>Elfentanz</figcaption></figure>
CONTACT:06766061545, info@dodo-irishdance.at
X-EXTRAINFO:[preis='1400'][anmeldung='true']
DTSTAMP:20260423T100229
DTSTART:20211104T133000
DTEND:20211104T141500
SEQUENCE:0
RRULE:FREQ=WEEKLY;UNTIL=20211105T000000Z;INTERVAL=1;BYDAY=TH
TRANSP:OPAQUE
END:VEVENT
END:VCALENDAR