BEGIN:VCALENDAR
VERSION:2.0
PRODID:-//jEvents 2.0 for Joomla//EN
CALSCALE:GREGORIAN
METHOD:PUBLISH
BEGIN:VEVENT
UID:c225e33c6db16d3ba5ea604e50228d4d
CATEGORIES:8. Bezirk
CREATED:19700101T010000
SUMMARY:Baby-Bauch-Töne  für Schwangere
LOCATION:Josefstädterstraße 81-83\, 1080 Wien
DESCRIPTION:<p>"Willkommen bei Baby Bauch Töne!"</p><p>7x Dienstag ab 09.11. - 21.12.20
 21 um 13:30-14:45 im MUPP.</p><p> </p><p>Josefstädterstraße 81-83</p><p>108
 0 Wien</p><p> </p><p>Pränatales Singen für MICH und DICH - tauch mit ein in
  die Tiefe des Singen, Tönen und behutsames Tanzen/ Bewegen eine erste tief
 gehende Verbingung zu Deinem ungeborenen Kind. Ergänzende Elemente wie beso
 ndere Atemtechniken zur positiven Beeinflussung der Geburt, dem Lauschen vo
 n Entspannungsmusik und das Begeben in Traumreisen geben Dir und Deinem Bab
 y die Möglichkeit für "Selbst-Zeit" im hektischen Alltag.</p><p>Kostenbeitr
 ag € 145,-</p><p>Einstieg jederzeit möglich!</p><p> </p><p>Barbara + 43 677
  64368498</p><p><a href="http://www.bauch-klang.at">www.bauch-klang.at</a><
 /p><p>termin@bauch-klang.at</p><p> </p>
CONTACT:Barbara 0677 64368498, termin@bauch-klang.at, www.bauch-klang.at
X-EXTRAINFO:[preis='14500'][anmeldung='true']
DTSTAMP:20260423T100647
DTSTART:20211109T123000
DTEND:20211109T134500
SEQUENCE:0
RRULE:FREQ=WEEKLY;COUNT=9999;INTERVAL=1;BYDAY=TU,TU,TU,TU,TU
TRANSP:OPAQUE
END:VEVENT
END:VCALENDAR