BEGIN:VCALENDAR
VERSION:2.0
PRODID:-//jEvents 2.0 for Joomla//EN
CALSCALE:GREGORIAN
METHOD:PUBLISH
BEGIN:VEVENT
UID:521b1e97133bdf420401b4f2a03adbdc
CATEGORIES:12. Bezirk
CREATED:20211109T134711
SUMMARY:FAMILY WORKOUT von mamaFIT im SCHLOSSPARK SCHÖNBRUNN
LOCATION:Schlosspark Schönbrunn - Eingang Meidlinger Tor
DESCRIPTION:mamaFIT.mit.Verena – Outdoortraining speziell an Familien gerichtet im Schl
 osspark Schönbrunn (Meidlinger Tor)\nWann: Das Training findet NUR am Samst
 ag 13.11.2021 von 10:00-11:00 am Vormittag statt.\n \nBeim FAMILY-WORKOUT g
 eht es vorrangig darum, zusammen mit der Familie Zeit zu verbringen und gle
 ichzeitig fit zu bleiben/werden. Du kannst gerne deinen Mann mitbringen, ei
 ne Freundin, Oma, Schwerster,… wen auch immer. Es wird auf deiner Kurskarte
  2x abgehakt. Jugendliche ab 16 gelten als zahlend. Kinder darunter trainie
 ren GRATIS mit. \nDie Mitnahme deines Kindes ist aber nicht Voraussetzung, 
 um beim Training mitmachen zu können. Du kannst auch sehr gerne diese Stund
 e Sporteinheit auch nur für dich alleine als Auszeit nutzen.\n \nTreffpunkt
 : Eingang beim Meidlinger Tor - GLEICH LINKS in den Park hinein - ca. 150m 
 rein auf Höhe WC/Pavillion\n (U-Bahn Station U4 Schönbrunn, Bushaltestelle 
 10A)\n (Eingang befindet sich auf der Kreuzung Schönbrunner Straße, Grünber
 gstraße in 1120 Wien)\n \nWas: Wir trainieren vorwiegend mit dem eigenen Kö
 rpergewicht aber auch mit Luftballons, Ringbändern, Therabändern, Trinkflas
 chen, Handtüchern, Kürbissen usw.! Sollte etwas zum Mitbringen sein, wirst 
 du im Vorhinein darüber informiert (WhatsApp-Gruppe).\nKomm vorbei mit dein
 em Kind im Kinderwagen, in der Trage oder noch im Bauch.\n Ziehe dir funkti
 onelle Sportkleidung dem Wetter entsprechend an und auch das passende, spor
 tliche Schuhwerk! Trinkflasche nicht vergessen!\nDas Training findet ganzjä
 hrig outdoor bei (fast) jedem Wetter statt. Einstieg ist jederzeit möglich,
  es handelt sich um ein offenes System und Gruppentraining.\nDetails zum je
 weiligen Training bekommst du immer zeitgerecht per WhatsApp (0664 4384341)
 , auf FACEBOOK (http://www.facebook.com/mamaFIT.mit.verena.kamper) und INST
 AGRAM (https://www.instagram.com/mamafit.mit.verena) zugespielt.\n \nKosten
 :\n Einzelstunde: 15 €\n 5er Block: 65 €\n 10er Block: 120 €\n Kombi-Block:
  120 € (trainiere 5x bei mir / trainiere 5x bei meiner Kollegin im Schlossp
 ark Schönbrunn)\n \nAKTIONEN im Jahr 2021:\n **Happy Birthday to you*:\n Ko
 mm an deinem Geburtstag zu mamaFIT mit Verena und ich schenke dir deine GRA
 TIS Trainingsstunde - auf ein sportliches neues Lebensjahr! (Aktion gilt bi
 s auf Weiteres)\n \n **BRING A FRIEND*:\n Du bist begeisterte mamaFIT Kundi
 n und kannst auch eine Freundin/einen Freund für mein Training begeistern? 
 Dann bekommst du, sofern sich deine Freundin/dein Freund mind. einen 5er Bl
 ock kauft, eine GRATIS Trainingsstunde von mir!\n \n \n Du kannst auch dein
 e UNIQA Vitalchecks und die SVS GESUNDHEITSHUNDERTER bei mir Einlösen oder 
 dich über MyClubs (https://www.myclubs.com/at/de/partner/mamafit-mit-verena
 -kamper) für meine Kurse anmelden!\nIch freue mich auf DICH und dein KIND (
 ob im Bauch oder schon live dabei)!\n \n \nInformationen zu ALLEN meinen Ku
 rsen findest du auf:\nwww.linktr.ee/mamaFIT.mit.verena\n  (https://www.link
 tr.ee/mamaFIT.mit.verena)--&gt; Rubrik: "Meine mamaFIT Kurse"\n
X-ALT-DESC;FMTTYPE=text/html:<p><strong><span style="font-size: 9.0pt; font-family: 'Tahoma',sans-serif;
  color: #333333;">mamaFIT.mit.Verena – Outdoortraining speziell an Familien
  gerichtet im Schlosspark Schönbrunn (Meidlinger Tor)</span></strong></p><p
  style="font-variant-ligatures: normal; font-variant-caps: normal; orphans:
  2; text-align: start; widows: 2; -webkit-text-stroke-width: 0px; text-deco
 ration-thickness: initial; text-decoration-style: initial; text-decoration-
 color: initial; word-spacing: 0px;"><strong><span style="font-size: 9.0pt; 
 font-family: 'Tahoma',sans-serif; color: #333333;">Wann</span></strong><spa
 n style="font-size: 9.0pt; font-family: 'Tahoma',sans-serif; color: #333333
 ;">: Das Training findet <span style="text-decoration: underline;"><strong>
 NUR am Samstag 13.11.2021</strong> </span>von 10:00-11:00 am Vormittag stat
 t.</span></p><p style="font-variant-ligatures: normal; font-variant-caps: n
 ormal; orphans: 2; text-align: start; widows: 2; -webkit-text-stroke-width:
  0px; text-decoration-thickness: initial; text-decoration-style: initial; t
 ext-decoration-color: initial; word-spacing: 0px;"> </p><p style="font-vari
 ant-ligatures: normal; font-variant-caps: normal; orphans: 2; text-align: s
 tart; widows: 2; -webkit-text-stroke-width: 0px; text-decoration-thickness:
  initial; text-decoration-style: initial; text-decoration-color: initial; w
 ord-spacing: 0px;"><span style="font-size: 9.0pt; font-family: 'Tahoma',san
 s-serif; color: #333333;">Beim <span style="text-decoration: underline;"><s
 trong>FAMILY-WORKOU</strong></span>T geht es vorrangig darum, zusammen mit 
 der Familie Zeit zu verbringen und gleichzeitig fit zu bleiben/werden. Du k
 annst gerne deinen Mann mitbringen, eine Freundin, Oma, Schwerster,… wen au
 ch immer. Es wird auf deiner Kurskarte 2x abgehakt. Jugendliche ab 16 gelte
 n als zahlend. Kinder darunter trainieren GRATIS mit. <br /></span><span st
 yle="font-size: 9.0pt; font-family: 'Tahoma',sans-serif; color: #333333;">D
 ie Mitnahme deines Kindes ist aber nicht Voraussetzung, um beim Training mi
 tmachen zu können. Du kannst auch sehr gerne diese Stunde Sporteinheit auch
  nur für dich alleine als Auszeit nutzen.</span></p><p><span style="font-si
 ze: 9.0pt; font-family: 'Tahoma',sans-serif; color: #333333;"> </span></p><
 p style="font-variant-ligatures: normal; font-variant-caps: normal; orphans
 : 2; text-align: start; widows: 2; -webkit-text-stroke-width: 0px; text-dec
 oration-thickness: initial; text-decoration-style: initial; text-decoration
 -color: initial; word-spacing: 0px;"><strong><span style="font-size: 9.0pt;
  font-family: 'Tahoma',sans-serif; color: #333333;">Treffpunkt:</span></str
 ong><span style="font-size: 9.0pt; font-family: 'Tahoma',sans-serif; color:
  #333333;"> Eingang beim Meidlinger Tor - GLEICH LINKS in den Park hinein -
  ca. 150m rein auf Höhe WC/Pavillion<br /> (U-Bahn Station U4 Schönbrunn, B
 ushaltestelle 10A)<br /> (Eingang befindet sich auf der Kreuzung Schönbrunn
 er Straße, Grünbergstraße in 1120 Wien)</span></p><p style="font-variant-li
 gatures: normal; font-variant-caps: normal; orphans: 2; text-align: start; 
 widows: 2; -webkit-text-stroke-width: 0px; text-decoration-thickness: initi
 al; text-decoration-style: initial; text-decoration-color: initial; word-sp
 acing: 0px;"><span style="font-size: 9.0pt; font-family: 'Tahoma',sans-seri
 f; color: #333333;"> </span></p><p style="font-variant-ligatures: normal; f
 ont-variant-caps: normal; orphans: 2; text-align: start; widows: 2; -webkit
 -text-stroke-width: 0px; text-decoration-thickness: initial; text-decoratio
 n-style: initial; text-decoration-color: initial; word-spacing: 0px;"><stro
 ng><span style="font-size: 9.0pt; font-family: 'Tahoma',sans-serif; color: 
 #333333;">Was:</span></strong><span style="font-size: 9.0pt; font-family: '
 Tahoma',sans-serif; color: #333333;"> Wir trainieren vorwiegend mit dem eig
 enen Körpergewicht aber auch mit Luftballons, Ringbändern, Therabändern, Tr
 inkflaschen, Handtüchern, Kürbissen usw.! Sollte etwas zum Mitbringen sein,
  wirst du im Vorhinein darüber informiert (WhatsApp-Gruppe).</span></p><p s
 tyle="font-variant-ligatures: normal; font-variant-caps: normal; orphans: 2
 ; text-align: start; widows: 2; -webkit-text-stroke-width: 0px; text-decora
 tion-thickness: initial; text-decoration-style: initial; text-decoration-co
 lor: initial; word-spacing: 0px;"><span style="font-size: 9.0pt; font-famil
 y: 'Tahoma',sans-serif; color: #333333;">Komm vorbei mit deinem Kind im Kin
 derwagen, in der Trage oder noch im Bauch.<br /> Ziehe dir funktionelle Spo
 rtkleidung dem Wetter entsprechend an und auch das passende, sportliche Sch
 uhwerk! Trinkflasche nicht vergessen!</span></p><p style="font-variant-liga
 tures: normal; font-variant-caps: normal; orphans: 2; text-align: start; wi
 dows: 2; -webkit-text-stroke-width: 0px; text-decoration-thickness: initial
 ; text-decoration-style: initial; text-decoration-color: initial; word-spac
 ing: 0px;"><span style="font-size: 9.0pt; font-family: 'Tahoma',sans-serif;
  color: #333333;">Das Training findet ganzjährig outdoor bei (fast) jedem W
 etter statt. Einstieg ist jederzeit möglich, es handelt sich um ein offenes
  System und Gruppentraining.</span></p><p style="font-variant-ligatures: no
 rmal; font-variant-caps: normal; orphans: 2; text-align: start; widows: 2; 
 -webkit-text-stroke-width: 0px; text-decoration-thickness: initial; text-de
 coration-style: initial; text-decoration-color: initial; word-spacing: 0px;
 "><span style="font-size: 9.0pt; font-family: 'Tahoma',sans-serif; color: #
 333333;">Details zum jeweiligen Training bekommst du immer zeitgerecht per 
 WhatsApp (0664 4384341), auf <strong><span style="font-family: 'Tahoma',san
 s-serif;"><a href="http://www.facebook.com/mamaFIT.mit.verena.kamper"><span
  style="color: #1b57b1; font-weight: normal; text-decoration: none; text-un
 derline: none;">FACEBOOK</span></a></span></strong> und <strong><span style
 ="font-family: 'Tahoma',sans-serif;"><a href="https://www.instagram.com/mam
 afit.mit.verena"><span style="color: #1b57b1; font-weight: normal; text-dec
 oration: none; text-underline: none;">INSTAGRAM</span></a> </span></strong>
 zugespielt.</span></p><p style="font-variant-ligatures: normal; font-varian
 t-caps: normal; orphans: 2; text-align: start; widows: 2; -webkit-text-stro
 ke-width: 0px; text-decoration-thickness: initial; text-decoration-style: i
 nitial; text-decoration-color: initial; word-spacing: 0px;"><span style="fo
 nt-size: 9.0pt; font-family: 'Tahoma',sans-serif; color: #333333;"> </span>
 </p><p style="font-variant-ligatures: normal; font-variant-caps: normal; or
 phans: 2; text-align: start; widows: 2; -webkit-text-stroke-width: 0px; tex
 t-decoration-thickness: initial; text-decoration-style: initial; text-decor
 ation-color: initial; word-spacing: 0px;"><strong><span style="font-size: 9
 .0pt; font-family: 'Tahoma',sans-serif; color: #333333;">Kosten:</span></st
 rong><span style="font-size: 9.0pt; font-family: 'Tahoma',sans-serif; color
 : #333333;"><br /> Einzelstunde: 15 €<br /> 5er Block: 65 €<br /> 10er Bloc
 k: 120 €<br /> Kombi-Block: 120 € (trainiere 5x bei mir / trainiere 5x bei 
 meiner Kollegin im Schlosspark Schönbrunn)</span></p><p style="font-variant
 -ligatures: normal; font-variant-caps: normal; orphans: 2; text-align: star
 t; widows: 2; -webkit-text-stroke-width: 0px; text-decoration-thickness: in
 itial; text-decoration-style: initial; text-decoration-color: initial; word
 -spacing: 0px;"><span style="font-size: 9.0pt; font-family: 'Tahoma',sans-s
 erif; color: #333333;"> </span></p><p style="font-variant-ligatures: normal
 ; font-variant-caps: normal; orphans: 2; text-align: start; widows: 2; -web
 kit-text-stroke-width: 0px; text-decoration-thickness: initial; text-decora
 tion-style: initial; text-decoration-color: initial; word-spacing: 0px;"><s
 trong><span style="font-size: 9.0pt; font-family: 'Tahoma',sans-serif; colo
 r: #333333;">AKTIONEN im Jahr 2021:</span></strong><span style="font-size: 
 9.0pt; font-family: 'Tahoma',sans-serif; color: #333333;"><br /> **Happy Bi
 rthday to you*:<br /> Komm an deinem Geburtstag zu mamaFIT mit Verena und i
 ch schenke dir deine GRATIS Trainingsstunde - auf ein sportliches neues Leb
 ensjahr! (Aktion gilt bis auf Weiteres)<br /> <br /> **BRING A FRIEND*:<br 
 /> Du bist begeisterte mamaFIT Kundin und kannst auch eine Freundin/einen F
 reund für mein Training begeistern? Dann bekommst du, sofern sich deine Fre
 undin/dein Freund mind. einen 5er Block kauft, eine GRATIS Trainingsstunde 
 von mir!<br /> <br /> <br /> Du kannst auch deine UNIQA Vitalchecks und die
  SVS GESUNDHEITSHUNDERTER bei mir Einlösen oder dich über <strong><span sty
 le="font-family: 'Tahoma',sans-serif;"><a href="https://www.myclubs.com/at/
 de/partner/mamafit-mit-verena-kamper"><span style="color: #1b57b1; font-wei
 ght: normal; text-decoration: none; text-underline: none;">MyClubs</span></
 a></span></strong> für meine Kurse anmelden!</span></p><p style="font-varia
 nt-ligatures: normal; font-variant-caps: normal; orphans: 2; text-align: st
 art; widows: 2; -webkit-text-stroke-width: 0px; text-decoration-thickness: 
 initial; text-decoration-style: initial; text-decoration-color: initial; wo
 rd-spacing: 0px;"><span style="font-size: 9.0pt; font-family: 'Tahoma',sans
 -serif; color: #333333;">Ich freue mich auf DICH und dein KIND (ob im Bauch
  oder schon live dabei)!</span></p><p style="font-variant-ligatures: normal
 ; font-variant-caps: normal; orphans: 2; text-align: start; widows: 2; -web
 kit-text-stroke-width: 0px; text-decoration-thickness: initial; text-decora
 tion-style: initial; text-decoration-color: initial; word-spacing: 0px;"><s
 pan style="font-size: 9.0pt; font-family: 'Tahoma',sans-serif; color: #3333
 33;"> </span></p><p style="font-variant-ligatures: normal; font-variant-cap
 s: normal; orphans: 2; text-align: start; widows: 2; -webkit-text-stroke-wi
 dth: 0px; text-decoration-thickness: initial; text-decoration-style: initia
 l; text-decoration-color: initial; word-spacing: 0px;"><span style="font-si
 ze: 9.0pt; font-family: 'Tahoma',sans-serif; color: #333333;"> </span></p><
 p style="font-variant-ligatures: normal; font-variant-caps: normal; orphans
 : 2; text-align: start; widows: 2; -webkit-text-stroke-width: 0px; text-dec
 oration-thickness: initial; text-decoration-style: initial; text-decoration
 -color: initial; word-spacing: 0px;"><span style="font-size: 9.0pt; font-fa
 mily: 'Tahoma',sans-serif; color: #333333;">Informationen zu ALLEN meinen K
 ursen findest du auf:</span></p><p style="font-variant-ligatures: normal; f
 ont-variant-caps: normal; orphans: 2; text-align: start; widows: 2; -webkit
 -text-stroke-width: 0px; text-decoration-thickness: initial; text-decoratio
 n-style: initial; text-decoration-color: initial; word-spacing: 0px;"><span
  style="font-size: 9.0pt; font-family: 'Tahoma',sans-serif; color: #333333;
 "><a href="https://www.linktr.ee/mamaFIT.mit.verena"><strong><span style="f
 ont-family: 'Tahoma',sans-serif; color: #1b57b1; text-decoration: none; tex
 t-underline: none;">www.linktr.ee/mamaFIT.mit.verena</span></strong><span s
 tyle="color: #1b57b1; text-decoration: none; text-underline: none;"><br /> 
 </span></a>--&gt; Rubrik: "Meine mamaFIT Kurse"</span></p>
CONTACT:www.linktr.ee/mamafit.mit.verena
X-EXTRAINFO:[preis='1200'][anmeldung='false']
DTSTAMP:20260423T094318
DTSTART:20211113T090000
DTEND:20211113T100000
SEQUENCE:0
TRANSP:OPAQUE
END:VEVENT
END:VCALENDAR