BEGIN:VCALENDAR
VERSION:2.0
PRODID:-//jEvents 2.0 for Joomla//EN
CALSCALE:GREGORIAN
METHOD:PUBLISH
BEGIN:VEVENT
UID:858fe8d4a5babbd9a3e9f9a009cd9015
CATEGORIES:2. Bezirk
CREATED:20211220T132439
SUMMARY:Grenzen setzen - aber wie? [Workshop I]
LOCATION:EKiZ Kind&amp;Kegel\, 1020 Praterstraße 14/8
DESCRIPTION:Grenzen setzen - aber wie? [2 teiliger Workshop]Wann sind Grenzen notwendig
 ? Wie gelingt es mir, dass die Grenzen eingehalten werden? Was haben meine 
 eigenen Erfahrungen mit Grenzen als Kind damit zu tun?\n Diese Fragen und d
 ie der TeilnehmerInnen, werden wir gemeinsam an 2 Abenden besprechen.\n Als
  Methoden dieses auf 2 Abende aufgeteilten Workshops setzen wir Theorie-Inp
 ut, praktische Übungen und Austausch ein.\nLeitung: Eva Schrems, MA, Montes
 sori- und Theaterpädagogin, systemische Coach\n Termine: Dienstag,\n 22.2.2
 2, 18:30 - 20:30 Uhr, und 08.3.22, 18:30 - 20:30 Uhr\n Kosten: € 55,- (für 
 beide Termine), Anmeldung erforderlich!\n
X-ALT-DESC;FMTTYPE=text/html:<h2 class="unterstrich">Grenzen setzen - aber wie? [2 teiliger Workshop]</h
 2><p>Wann sind Grenzen notwendig? Wie gelingt es mir, dass die Grenzen eing
 ehalten werden? Was haben meine eigenen Erfahrungen mit Grenzen als Kind da
 mit zu tun?<br /> Diese Fragen und die der TeilnehmerInnen, werden wir geme
 insam an 2 Abenden besprechen.<br /> Als Methoden dieses auf 2 Abende aufge
 teilten Workshops setzen wir Theorie-Input, praktische Übungen und Austausc
 h ein.</p><p><span class="fett">Leitung:</span> Eva Schrems, MA, Montessori
 - und Theaterpädagogin, systemische Coach<br /> <span class="fett">Termine:
 </span> Dienstag,<br /> 22.2.22, 18:<span class="kleinhoch">30</span> - 20:
 <span class="kleinhoch">30</span> Uhr, <strong>und </strong>08.3.22, 18:<sp
 an class="kleinhoch">30</span> - 20:<span class="kleinhoch">30</span> Uhr<b
 r /> <span class="fett">Kosten</span>: € 55,- (für beide Termine), Anmeldun
 g erforderlich!</p>
CONTACT:01 503 71 88, info@kind-und-kegel.at
X-EXTRAINFO:[preis='5500'][anmeldung='true']
DTSTAMP:20260423T172446
DTSTART:20220222T173000
DTEND:20220222T193000
SEQUENCE:0
TRANSP:OPAQUE
END:VEVENT
END:VCALENDAR