BEGIN:VCALENDAR
VERSION:2.0
PRODID:-//jEvents 2.0 for Joomla//EN
CALSCALE:GREGORIAN
METHOD:PUBLISH
BEGIN:VEVENT
UID:d52c4f2c0d0ef4d72e2e144b4951f333
CATEGORIES:2. Bezirk
CREATED:20211220T133238
SUMMARY:Vortrag Wie Babys schlafen
LOCATION:EKiZ Kind&amp;Kegel\, Praterstrasse 14/8
DESCRIPTION:Entwicklung, Mythen &amp; Träume: Wie Babys schlafen [Vortrag]Vortrag zum T
 hema Gehirnentwicklung im Baby- und Kleinkindalter und Konsequenzen für den
  Baby- und Kleinkindschlaf. Warum schlafen Babys wie sie schlafen? Warum wa
 chen Babys auf? Was kann man tun um sein Baby gut in den und im Schlaf zu b
 egleiten.\n \n Leitung: Eva Dittinger, PhD\n Neurowissenschafterin, Mutter 
 und zertifizierte Baby- und Kinderschlafbegleiterin \n Termine:\n Montag, 2
 1.02.2022, 18.15-20.15 Uhr,\n Freitag, 20.05.22, 09:30 - 11:30 Uhr\n Kosten
 : € 20,- pro Termin (€ 35,- für Paare), Anmeldung erforderlich!\n
X-ALT-DESC;FMTTYPE=text/html:<h2 class="unterstrich">Entwicklung, Mythen &amp; Träume: Wie Babys schlafe
 n [Vortrag]</h2><p>Vortrag zum Thema Gehirnentwicklung im Baby- und Kleinki
 ndalter und Konsequenzen für den Baby- und Kleinkindschlaf. Warum schlafen 
 Babys wie sie schlafen? Warum wachen Babys auf? Was kann man tun um sein Ba
 by gut in den und im Schlaf zu begleiten.<br /> <br /> <span class="fett">L
 eitung:</span> Eva Dittinger, PhD<br /> Neurowissenschafterin, Mutter und z
 ertifizierte Baby- und Kinderschlafbegleiterin <br /> <span class="fett">Te
 rmine</span>:<br /> <strong>Montag, 21.02.2022, 18.15-20.15 Uhr,</strong><b
 r /> Freitag, 20.05.22, 09:30 - 11:30 Uhr<br /> <span class="fett">Kosten</
 span>: € 20,- pro Termin (€ 35,- für Paare), Anmeldung erforderlich!</p>
CONTACT:info@kind-und-kegel.at, 01 503 71 88, www.kind-und-kegel.at
X-EXTRAINFO:[preis='2000'][anmeldung='true']
DTSTAMP:20260423T141653
DTSTART:20220221T171500
DTEND:20220221T191500
SEQUENCE:0
TRANSP:OPAQUE
END:VEVENT
END:VCALENDAR