BEGIN:VCALENDAR
VERSION:2.0
PRODID:-//jEvents 2.0 for Joomla//EN
CALSCALE:GREGORIAN
METHOD:PUBLISH
BEGIN:VEVENT
UID:6949dbc76afa87c05a971d0bc17007c1
CATEGORIES:2. Bezirk
CREATED:20211220T133634
SUMMARY:Entscheidungshilfe bei der Schulwahl - Vortrag ONLINE
LOCATION:ONLINE
DESCRIPTION: Entscheidungshilfe bei der Schulwahl [Online-Vortrag]Die Entscheidung für 
 die richtige Schule fällt oft nicht leicht. Schulen unterscheiden sich zuse
 hends mehr und können einen großen Unterschied machen. Welche Unterschiede 
 die Schulauswahl bestimmen sollten, bleibt für Eltern oft auch an "Tagen de
 r offenen Tür" unklar. Der Vortrag gibt einen Überblick über die Wiener Sch
 ullandschaft, skizziert die Rahmenbedingungen der Schulsuche in Wien und ze
 igt relevante Unterschiede von Schulen auf.\nLeitung: Mag. Gerhard Patzner,
  Pädagoge\n Termin: Donnerstag, 04.05.22, 20:00 Uhr\n Kosten: € 20,- (Anmel
 dung erforderlich!)\n
X-ALT-DESC;FMTTYPE=text/html:<h2 class="unterstrich"> </h2><h2 class="unterstrich">Entscheidungshilfe be
 i der Schulwahl [<strong>Online-Vortrag</strong>]</h2><p>Die Entscheidung f
 ür die richtige Schule fällt oft nicht leicht. Schulen unterscheiden sich z
 usehends mehr und können einen großen Unterschied machen. Welche Unterschie
 de die Schulauswahl bestimmen sollten, bleibt für Eltern oft auch an "Tagen
  der offenen Tür" unklar. Der Vortrag gibt einen Überblick über die Wiener 
 Schullandschaft, skizziert die Rahmenbedingungen der Schulsuche in Wien und
  zeigt relevante Unterschiede von Schulen auf.</p><p><span class="fett">Lei
 tung:</span> Mag. Gerhard Patzner, Pädagoge<br /> <strong><span class="fett
 ">Termin</span>: Donnerstag, 04.05.22, 20:<span class="kleinhoch">00</span>
  Uhr</strong><br /> <span class="fett">Kosten</span>: € 20,- (Anmeldung erf
 orderlich!)</p>
CONTACT:info@kind-und-kegel.at, 01 503 71 88, www.kind-und-kegel.at
X-EXTRAINFO:[preis='2000'][anmeldung='true']
DTSTAMP:20260425T121816
DTSTART:20220504T180000
DTEND:20220504T200000
SEQUENCE:0
TRANSP:OPAQUE
END:VEVENT
END:VCALENDAR