BEGIN:VCALENDAR
VERSION:2.0
PRODID:-//jEvents 2.0 for Joomla//EN
CALSCALE:GREGORIAN
METHOD:PUBLISH
BEGIN:VEVENT
UID:b1d37a9b77b47874217c690b58469444
CATEGORIES:2. Bezirk
CREATED:20211220T133959
SUMMARY:Trotzkind? Wutzwerg? - Welteroberer! Selbermacherin! [Workshop]
LOCATION:EKiZ Kind&amp;Kegel\, 1020 Praterstraße 14/8
DESCRIPTION:Trotzkind? Wutzwerg? - Welteroberer! Selbermacherin! [Workshop] \nKinder in
  der Autonomiephase besser verstehen und begleiten:\n Welche wichtigen geis
 tigen Entwicklungen passieren in der Kleinkindzeit? Und wie zeigen sie sich
  in den für die Autonomiephase typischen (und oft nervenaufreibenden) Verha
 ltensweisen? Wie können wir unsere Kinder bedürfnis- und kompetenzorientier
 t durch diese turbulente Zeit begleiten, ohne dabei selbst den Kopf zu verl
 ieren? In diesem Workshop bekommt ihr theoretisches Hintergrundwissen, hand
 feste Praxistipps und vor allem neue Perspektiven zu diesen und anderen Fra
 gen rund um die Autonomiephase.\nLeitung: Maga Sophie Schönwälder-Rieder \n
  Termine:\n Freitag, 08.06.22, 18:00 - 20:00 Uhr,\n\n Kosten: € 20,- pro Te
 rmin (€ 35,- für Paare), Anmeldung erforderlich!\n
X-ALT-DESC;FMTTYPE=text/html:<h2 class="unterstrich">Trotzkind? Wutzwerg? - Welteroberer! Selbermacherin
 ! [Workshop]</h2><p> </p><p><b>Kinder in der Autonomiephase besser verstehe
 n und begleiten:</b><br /> Welche wichtigen geistigen Entwicklungen passier
 en in der Kleinkindzeit? Und wie zeigen sie sich in den für die Autonomieph
 ase typischen (und oft nervenaufreibenden) Verhaltensweisen? Wie können wir
  unsere Kinder bedürfnis- und kompetenzorientiert durch diese turbulente Ze
 it begleiten, ohne dabei selbst den Kopf zu verlieren? In diesem Workshop b
 ekommt ihr theoretisches Hintergrundwissen, handfeste Praxistipps und vor a
 llem neue Perspektiven zu diesen und anderen Fragen rund um die Autonomieph
 ase.</p><p><span class="fett">Leitung:</span> Mag<span class="kleinhoch">a<
 /span> Sophie Schönwälder-Rieder <br /> <span class="fett">Termine:<br /> <
 /span><strong>Freitag, 08.06.22, 18:<span class="kleinhoch">00</span> - 20:
 <span class="kleinhoch">00</span> Uhr,</strong><br /><br /> <span class="fe
 tt">Kosten</span>: € 20,- pro Termin (€ 35,- für Paare), Anmeldung erforder
 lich!</p>
CONTACT:01 503 71 88, info@kind-und-kegel.
X-EXTRAINFO:[preis='2000'][anmeldung='true']
DTSTAMP:20260423T220043
DTSTART:20220608T160000
DTEND:20220608T180000
SEQUENCE:0
TRANSP:OPAQUE
END:VEVENT
END:VCALENDAR